Felt | Verdi |
AlreadyApplied | True |
Aperture | 4.5 |
ApertureValue | 4.5 |
ApproximateFocusDistance | 1 |
AutoLateralCA | 0 |
AutoWhiteVersion | 134348800 |
BitsPerSample (1) | 8 8 8 |
BitsPerSample | 8 |
Blacks2012 | -5 |
BlueHue | 0 |
BlueSaturation | 0 |
CameraProfile | Adobe Standard |
CFAPattern | [Red,Green][Green,Blue] |
CircleOfConfusion | 0.030 mm |
Clarity2012 | +27 |
ColorComponents | 3 |
ColorMode | RGB |
ColorNoiseReduction | 25 |
ColorNoiseReductionDetail | 50 |
ColorNoiseReductionSmoothness | 50 |
ColorSpace | sRGB |
ColorTemperature | 5100 |
Contrast | Normal |
Contrast2012 | +15 |
ConvertToGrayscale | True |
CreateDate (1) | 2014:04:18 12:51:36+02:00 |
CreateDate | 2014:04:18 12:51:36 |
CreatorTool | Adobe Photoshop Lightroom 5.4 (Macintosh) |
CropAngle | -14.6456 |
CropBottom | 0.731641 |
CropConstrainToWarp | 0 |
CropLeft | 0.19046 |
CropRight | 0.93364 |
CropTop | 0.377017 |
CustomRendered | Normal |
DateCreated (1) | 2014:04:18 |
DateCreated | 2014:04:18 12:51:36.001 |
DateTimeOriginal | 2014:04:18 12:51:36 |
DigitalZoomRatio | 1 |
DOF | 0.10 m (0.95 - 1.05 m) |
ExifImageHeight | 3406 |
ExifImageWidth | 2208 |
Exposure2012 | 0.00 |
ExposureCompensation | 0 |
ExposureMode | Auto |
ExposureProgram | Aperture-priority AE |
ExposureTime | 1/1250 |
Flash | No Flash |
FNumber | 4.5 |
FocalLength | 50.0 mm |
FocalLength35efl | 50.0 mm (35 mm equivalent: 50.0 mm) |
FocalLengthIn35mmFormat | 50 mm |
Format | image/jpeg |
FOV | 39.6 deg |
GainControl | Low gain up |
GrainAmount | 0 |
GrayMixerAqua | -18 |
GrayMixerBlue | +10 |
GrayMixerGreen | -27 |
GrayMixerMagenta | +4 |
GrayMixerOrange | -19 |
GrayMixerPurple | +16 |
GrayMixerRed | -9 |
GrayMixerYellow | -23 |
GreenHue | 0 |
GreenSaturation | 0 |
HasCrop | True |
HasSettings | True |
Highlights2012 | -36 |
HyperfocalDistance | 18.49 m |
ICCProfileName | sRGB IEC61966-2.1 |
ImageHeight (1) | 3249 |
ImageHeight | 3406 |
ImageNumber | 2609 |
ImageSize | 2208x3406 |
ImageWidth (1) | 2051 |
ImageWidth | 2208 |
ISO | 400 |
Lens | 50.0 mm f/1.8 |
LensID (1) | 176 |
LensID | AF-S Nikkor 50mm f/1.8G |
LensInfo | 50mm f/1.8 |
LensManualDistortionAmount | 0 |
LensModel | 50.0 mm f/1.8 |
LensProfileChromaticAberrationScale | 100 |
LensProfileDistortionScale | 100 |
LensProfileEnable | 1 |
LensProfileFilename | NIKON D3X (Nikon AF-S NIKKOR 50mm f1.8G) - RAW.lcp |
LensProfileName | Adobe (Nikon AF-S NIKKOR 50mm f/1.8G) |
LensProfileSetup | LensDefaults |
LensProfileVignettingScale | 100 |
LightSource | Unknown |
LightValue | 12.6 |
LuminanceNoiseReductionContrast | 0 |
LuminanceNoiseReductionDetail | 50 |
LuminanceSmoothing | 19 |
Make | NIKON CORPORATION |
MaxApertureValue | 1.7 |
Megapixels | 7.5 |
MeteringMode | Multi-segment |
Model | NIKON Df |
ModifyDate (1) | 2014:04:18 16:53:17+02:00 |
ModifyDate | 2014:04:18 16:53:17 |
Orientation | Horizontal (normal) |
ParametricDarks | +14 |
ParametricHighlights | 0 |
ParametricHighlightSplit | 75 |
ParametricLights | -13 |
ParametricMidtoneSplit | 50 |
ParametricShadows | 0 |
ParametricShadowSplit | 25 |
PerspectiveAspect | 0 |
PerspectiveHorizontal | 0 |
PerspectiveRotate | 0.0 |
PerspectiveScale | 100 |
PerspectiveUpright | 0 |
PerspectiveVertical | 0 |
PhotometricInterpretation | RGB |
PostCropVignetteAmount | 0 |
ProcessVersion | 6.7 |
ProfileDescription | sRGB IEC61966-2.1 |
RedHue | 0 |
RedSaturation | 0 |
Saturation | Normal |
ScaleFactor35efl | 1.0 |
SceneCaptureType | Standard |
SceneType | Directly photographed |
SensingMethod | One-chip color area |
SensitivityType | Recommended Exposure Index |
SerialNumber | 6000699 |
Shadows2012 | 0 |
ShadowTint | 0 |
SharpenDetail | 35 |
SharpenEdgeMasking | 18 |
SharpenRadius | +1.5 |
Sharpness (1) | 97 |
Sharpness | Normal |
ShutterSpeed | 1/1250 |
ShutterSpeedValue | 1/1250 |
Software | Adobe Photoshop Elements 11.0 Macintosh |
SplitToningBalance | -52 |
SplitToningHighlightHue | 40 |
SplitToningHighlightSaturation | 100 |
SplitToningShadowHue | 0 |
SplitToningShadowSaturation | 0 |
SubjectDistanceRange | Unknown |
Tint | -4 |
ToneCurve | 0, 0, 255, 255 |
ToneCurveBlue | 0, 0, 255, 255 |
ToneCurveGreen | 0, 0, 255, 255 |
ToneCurveName | Linear |
ToneCurveName2012 | Linear |
ToneCurvePV2012 | 0, 0, 255, 255 |
ToneCurvePV2012Blue | 0, 0, 255, 255 |
ToneCurvePV2012Green | 0, 0, 255, 255 |
ToneCurvePV2012Red | 0, 0, 255, 255 |
ToneCurveRed | 0, 0, 255, 255 |
URL_List | |
Version | 8.4 |
VignetteAmount | 0 |
WhiteBalance (1) | As Shot |
WhiteBalance | Auto |
Whites2012 | -30 |