Felt | Verdi |
AlreadyApplied | True |
Aperture | 1.4 |
ApertureValue | 1.4 |
ApproximateFocusDistance | 0.64 |
AutoLateralCA | 0 |
BitsPerSample | 8 |
Blacks2012 | -68 |
BlueHue | 0 |
BlueSaturation | 0 |
CameraProfile | Adobe Standard |
CircleOfConfusion | 0.022 mm |
Clarity2012 | +76 |
ColorComponents | 3 |
ColorNoiseReduction | 25 |
ColorNoiseReductionDetail | 50 |
ColorTemperature | 5550 |
ColorTransform | YCbCr |
Contrast2012 | +58 |
ConvertToGrayscale | True |
CreateDate (1) | 2014:07:10 18:47:35.22 |
CreateDate | 2014:07:10 18:47:35 |
CreatorTool | Adobe Photoshop Camera Raw 7.3 (Macintosh) |
CropAngle | 0.434051 |
CropBottom | 0.929813 |
CropConstrainToWarp | 1 |
CropHeight | 1 |
CropLeft | 0.129392 |
CropRight | 0.735278 |
CropTop | 0.007108 |
CropUnit | Unknown (3) |
CropWidth | 1 |
CustomRendered | Normal |
DateCreated (1) | 2014:07:10 |
DateCreated | 2014:07:10 18:47:35.22 |
DateTimeOriginal | 2014:07:10 18:47:35 |
DOF | 0.009 m (0.635 - 0.645 m) |
Exposure2012 | -0.65 |
ExposureCompensation | 0 |
ExposureMode | Auto |
ExposureProgram | Aperture-priority AE |
ExposureTime | 1/320 |
Firmware | 1.1.3 |
Flash | Off, Did not fire |
FlashCompensation | 0 |
FNumber | 1.4 |
FocalLength | 50.0 mm |
FocalLength35efl | 50.0 mm (35 mm equivalent: 69.6 mm) |
Format | image/jpeg |
FOV | 29.0 deg |
GrainAmount | 0 |
GrayMixerAqua | +18 |
GrayMixerBlue | +9 |
GrayMixerGreen | +21 |
GrayMixerMagenta | 0 |
GrayMixerOrange | +49 |
GrayMixerPurple | +8 |
GrayMixerRed | +68 |
GrayMixerYellow | -18 |
GreenHue | 0 |
GreenSaturation | 0 |
HasCrop | True |
HasSettings | True |
Highlights2012 | -42 |
HyperfocalDistance | 82.72 m |
ImageHeight | 3341 |
ImageNumber | 0 |
ImageSize | 3341x3341 |
ImageWidth | 3341 |
ISO | 1600 |
Lens | 50mm |
LensID (1) | 180 |
LensID | Sigma 50mm f/1.4 DG HSM | A or Zeiss Milvus 50mm f/1.4 or Sigma 50mm f/1.5 FF High-Speed Prime | 017 or Tokina Opera 50mm f/1.4 FF |
LensInfo | 50mm f/? |
LensManualDistortionAmount | 0 |
LensModel | 50mm |
LensProfileEnable | 0 |
LensProfileSetup | LensDefaults |
LensSerialNumber | 0000000000 |
LightValue | 5.3 |
LuminanceNoiseReductionContrast | 0 |
LuminanceNoiseReductionDetail | 50 |
LuminanceSmoothing | 23 |
Make | Canon |
MaxApertureValue | 1.4 |
Megapixels | 11.2 |
MeteringMode | Multi-segment |
Model | Canon EOS 6D |
ModifyDate (1) | 2014:07:10 20:49:26+02:00 |
ModifyDate | 2014:07:10 20:49:26 |
PaintCorrectionActive | true |
PaintCorrectionAmount | 1.000000 |
PaintCorrectionBrightness | 0.000000 |
PaintCorrectionClarity | 0.000000 |
PaintCorrectionClarity2012 (10) | -0.360000 |
PaintCorrectionClarity2012 (11) | 0.950000 |
PaintCorrectionClarity2012 (13) | 0.970000 |
PaintCorrectionClarity2012 (2) | 0.020000 |
PaintCorrectionClarity2012 (6) | 0.740000 |
PaintCorrectionClarity2012 (8) | 1.000000 |
PaintCorrectionClarity2012 | 0.000000 |
PaintCorrectionContrast | 0.000000 |
PaintCorrectionContrast2012 (12) | 0.610000 |
PaintCorrectionContrast2012 (6) | 0.360000 |
PaintCorrectionContrast2012 (9) | 0.170000 |
PaintCorrectionContrast2012 | 0.000000 |
PaintCorrectionDefringe | 0.000000 |
PaintCorrectionExposure | 0.000000 |
PaintCorrectionExposure2012 (10) | -0.187500 |
PaintCorrectionExposure2012 (11) | 0.087500 |
PaintCorrectionExposure2012 (12) | 0.000000 |
PaintCorrectionExposure2012 (13) | -0.087500 |
PaintCorrectionExposure2012 (4) | 0.200000 |
PaintCorrectionExposure2012 (5) | 0.050000 |
PaintCorrectionExposure2012 (6) | -0.075000 |
PaintCorrectionExposure2012 (7) | 0.387500 |
PaintCorrectionExposure2012 (9) | 0.287500 |
PaintCorrectionExposure2012 | 0.125000 |
PaintCorrectionHighlights2012 (1) | -0.770000 |
PaintCorrectionHighlights2012 (10) | -0.010000 |
PaintCorrectionHighlights2012 (13) | 0.300000 |
PaintCorrectionHighlights2012 (2) | 0.630000 |
PaintCorrectionHighlights2012 (6) | 0.110000 |
PaintCorrectionHighlights2012 (8) | 0.980000 |
PaintCorrectionHighlights2012 (9) | 0.520000 |
PaintCorrectionHighlights2012 | 0.000000 |
PaintCorrectionHue | 265.000000 |
PaintCorrectionLuminanceNoise | 0.000000 |
PaintCorrectionMaskCenterWeight (21) | 0.006825 |
PaintCorrectionMaskCenterWeight | 0.087789 |
PaintCorrectionMaskFlow (22) | 0.928839 |
PaintCorrectionMaskFlow | 0.621005 |
PaintCorrectionMaskRadius (15) | 0.014554 |
PaintCorrectionMaskRadius (2) | 0.051849 |
PaintCorrectionMaskRadius (20) | 0.019403 |
PaintCorrectionMaskRadius (21) | 0.019788 |
PaintCorrectionMaskRadius (23) | 0.009704 |
PaintCorrectionMaskRadius (24) | 0.004852 |
PaintCorrectionMaskRadius (25) | 0.003143 |
PaintCorrectionMaskRadius (30) | 0.006287 |
PaintCorrectionMaskRadius (36) | 0.009429 |
PaintCorrectionMaskRadius | 0.084727 |
PaintCorrectionMaskValue (16) | 0.450000 |
PaintCorrectionMaskValue (18) | 0.180000 |
PaintCorrectionMaskValue (21) | 0.000000 |
PaintCorrectionMaskValue (3) | 0.980000 |
PaintCorrectionMaskValue | 0.810000 |
PaintCorrectionMaskWhat | Mask/Paint |
PaintCorrectionMoire | 0.000000 |
PaintCorrectionSaturation | 0.000000 |
PaintCorrectionShadows2012 (1) | 0.000000 |
PaintCorrectionShadows2012 (11) | 0.560000 |
PaintCorrectionShadows2012 (3) | 0.930000 |
PaintCorrectionShadows2012 (6) | 0.050000 |
PaintCorrectionShadows2012 (7) | 0.570000 |
PaintCorrectionShadows2012 (8) | -0.180000 |
PaintCorrectionShadows2012 (9) | 0.340000 |
PaintCorrectionShadows2012 | 0.300000 |
PaintCorrectionSharpness | 0.000000 |
PaintCorrectionTemperature | 0.000000 |
PaintCorrectionTint | 0.000000 |
PaintCorrectionWhat | Correction |
ParametricDarks | +8 |
ParametricHighlights | +8 |
ParametricHighlightSplit | 75 |
ParametricLights | +14 |
ParametricMidtoneSplit | 50 |
ParametricShadows | -3 |
ParametricShadowSplit | 25 |
PerspectiveHorizontal | 0 |
PerspectiveRotate | 0.0 |
PerspectiveScale | 100 |
PerspectiveVertical | 0 |
PostCropVignetteAmount | 0 |
ProcessVersion | 6.7 |
ProfileDescription | ProPhoto RGB |
RawFileName | IMG_4576.CR2 |
RecommendedExposureIndex | 1600 |
RedHue | 0 |
RedSaturation | 0 |
ScaleFactor35efl | 1.4 |
SceneCaptureType | Standard |
SensitivityType | Recommended Exposure Index |
SerialNumber | 033024005297 |
Shadows2012 | +52 |
ShadowTint | 0 |
SharpenDetail | 25 |
SharpenEdgeMasking | 61 |
SharpenRadius | +2.0 |
Sharpness | 91 |
ShutterSpeed | 1/320 |
ShutterSpeedValue | 1/320 |
Software | Adobe Photoshop Camera Raw 7.3 (Macintosh) |
SplitToningBalance | 0 |
SplitToningHighlightHue | 263 |
SplitToningHighlightSaturation | 0 |
SplitToningShadowHue | 224 |
SplitToningShadowSaturation | 0 |
Tint | -3 |
ToneCurveName2012 | Linear |
ToneCurvePV2012 | 0, 0, 255, 255 |
ToneCurvePV2012Blue | 0, 0, 255, 255 |
ToneCurvePV2012Green | 0, 0, 255, 255 |
ToneCurvePV2012Red | 0, 0, 255, 255 |
Version | 7.3 |
VignetteAmount | -36 |
VignetteMidpoint | 27 |
WhiteBalance (1) | Custom |
WhiteBalance | Auto |
Whites2012 | 0 |