Felt | Verdi |
AlreadyApplied | True |
Aperture | 6.3 |
ApertureValue | 6.3 |
ApproximateFocusDistance | 4294967295 |
Artist | Håvard Jangaard Strand |
AuthorsPosition | Daydreamer |
AutoLateralCA | 1 |
AutoWhiteVersion | 134348800 |
BitsPerSample | 8 |
Blacks2012 | -19 |
BlueHue | 0 |
BlueSaturation | 0 |
By-line | Håvard Jangaard Strand |
By-lineTitle | Daydreamer |
CameraProfile | Adobe Standard |
CaptionWriter | Håvard Jangaard Strand |
Clarity2012 | +53 |
ColorComponents | 3 |
ColorNoiseReduction | 65 |
ColorNoiseReductionDetail | 50 |
ColorNoiseReductionSmoothness | 50 |
ColorSpace | sRGB |
ColorTemperature | 7000 |
ColorTransform | YCbCr |
Contrast2012 | 0 |
ConvertToGrayscale | True |
Copyright | Håvard Jangaard Strand |
CopyrightFlag | True |
CopyrightNotice | Håvard Jangaard Strand |
CreateDate (1) | 2016:01:12 13:07:38.55 |
CreateDate | 2016:01:12 13:07:38 |
Creator | Håvard Jangaard Strand |
CreatorAddress | Jangardsøyra 5 |
CreatorCity | Ålesund |
CreatorCountry | Norway |
CreatorPostalCode | 6050 |
CreatorRegion | Møre og Romsdal |
CreatorTool | Adobe Photoshop Lightroom 6.5 (Windows) |
CreatorWorkEmail | haavardjstrand@gmail.com |
CreatorWorkTelephone | +47 93696734 |
Credit | Håvard Jangaard Strand |
CropAngle | -0.953 |
CropBottom | 0.82398 |
CropConstrainToWarp | 0 |
CropLeft | 0 |
CropRight | 0.881767 |
CropTop | 0.071966 |
CustomRendered | Normal |
DateCreated (1) | 2016:01:12 |
DateCreated | 2016:01:12 13:07:29.61 |
DateTimeOriginal | 2016:01:12 13:07:38 |
Dehaze | 0 |
DistortionCorrectionAlreadyApplied | True |
Exposure2012 | +0.69 |
ExposureCompensation | 0 |
ExposureMode | Auto |
ExposureProgram | Aperture-priority AE |
ExposureTime | 1/400 |
Firmware | 1.0.5 |
Flash | Off, Did not fire |
FlashCompensation | 0 |
FNumber | 6.3 |
FocalLength | 300.0 mm |
FocalLength35efl | 300.0 mm |
Format | image/jpeg |
GrainAmount | 0 |
GrayMixerAqua | -18 |
GrayMixerBlue | +10 |
GrayMixerGreen | -27 |
GrayMixerMagenta | +4 |
GrayMixerOrange | -19 |
GrayMixerPurple | +16 |
GrayMixerRed | -10 |
GrayMixerYellow | -23 |
GreenHue | 0 |
GreenSaturation | 0 |
HasCrop | True |
HasSettings | True |
Highlights2012 | -12 |
ImageHeight | 4557 |
ImageNumber | 0 |
ImageSize | 14234x4557 |
ImageWidth | 14234 |
IsMergedPanorama | True |
ISO | 1600 |
Keywords | fjell |
Label | Blue |
LateralChromaticAberrationCorrectionAlreadyApplied | True |
Lens | EF300mm f/4L IS USM |
LensID (1) | 177 |
LensID | Canon EF 300mm f/4L IS USM |
LensInfo | 300mm f/? |
LensManualDistortionAmount | 0 |
LensModel | EF300mm f/4L IS USM |
LensProfileChromaticAberrationScale | 100 |
LensProfileDistortionScale | 100 |
LensProfileEnable | 1 |
LensProfileFilename | Canon EOS 5D Mark II (Canon EF 300mm f4L IS USM) - RAW.lcp |
LensProfileName | Adobe (Canon EF 300mm f/4L IS USM) |
LensProfileSetup | LensDefaults |
LensProfileVignettingScale | 100 |
LensSerialNumber | 0000000000 |
LightValue | 10.0 |
LuminanceNoiseReductionContrast | 0 |
LuminanceNoiseReductionDetail | 50 |
LuminanceSmoothing | 17 |
Make | Canon |
Marked | True |
MaxApertureValue | 4.0 |
Megapixels | 64.9 |
MeteringMode | Partial |
Model | Canon EOS 7D Mark II |
ModifyDate (1) | 2016:04:05 12:49:04+02:00 |
ModifyDate | 2016:04:05 12:49:04 |
ParametricDarks | -40 |
ParametricHighlights | -18 |
ParametricHighlightSplit | 75 |
ParametricLights | +7 |
ParametricMidtoneSplit | 50 |
ParametricShadows | -20 |
ParametricShadowSplit | 25 |
PerspectiveAspect | 0 |
PerspectiveHorizontal | 0 |
PerspectiveRotate | 0.0 |
PerspectiveScale | 100 |
PerspectiveUpright | 0 |
PerspectiveVertical | 0 |
PostCropVignetteAmount | -5 |
PostCropVignetteFeather | 55 |
PostCropVignetteHighlightContrast | 0 |
PostCropVignetteMidpoint | 50 |
PostCropVignetteRoundness | 0 |
PostCropVignetteStyle | 1 |
ProcessVersion | 6.7 |
ProfileDescription | sRGB IEC61966-2.1 |
RecommendedExposureIndex | 1600 |
RedHue | 0 |
RedSaturation | 0 |
Rights | Håvard Jangaard Strand |
SceneCaptureType | Standard |
SensitivityType | Recommended Exposure Index |
SerialNumber | 063021007049 |
Shadows2012 | -24 |
ShadowTint | 0 |
SharpenDetail | 25 |
SharpenEdgeMasking | 0 |
SharpenRadius | +1.0 |
Sharpness | 25 |
ShutterSpeed | 1/400 |
ShutterSpeedValue | 1/400 |
Software | Adobe Photoshop Lightroom 6.5 (Windows) |
SplitToningBalance | 0 |
SplitToningHighlightHue | 0 |
SplitToningHighlightSaturation | 0 |
SplitToningShadowHue | 0 |
SplitToningShadowSaturation | 0 |
Subject | fjell |
Tint | +6 |
ToneCurve | 0, 0, 255, 255 |
ToneCurveBlue | 0, 0, 255, 255 |
ToneCurveGreen | 0, 0, 255, 255 |
ToneCurveName | Linear |
ToneCurveName2012 | Custom |
ToneCurvePV2012 | 0, 0, 66, 43, 200, 207, 255, 255 |
ToneCurvePV2012Blue | 0, 0, 255, 255 |
ToneCurvePV2012Green | 0, 0, 255, 255 |
ToneCurvePV2012Red | 0, 0, 255, 255 |
ToneCurveRed | 0, 0, 255, 255 |
ToneMapStrength | 0 |
UsageTerms | All rights reserved |
Version | 9.5 |
VignetteAmount | 0 |
VignetteCorrectionAlreadyApplied | True |
WhiteBalance (1) | Custom |
WhiteBalance | Manual |
Whites2012 | -50 |
Writer-Editor | Håvard Jangaard Strand |