Felt | Verdi |
AlreadyApplied | True |
Aperture | 5.6 |
ApertureValue | 5.6 |
ApproximateFocusDistance | 4294967295 |
AutoLateralCA | 0 |
AutoWhiteVersion | 134348800 |
BitsPerSample | 8 |
Blacks2012 | +5 |
BlueHue | 0 |
BlueSaturation | 0 |
CameraProfile | Adobe Standard |
CircleOfConfusion | 0.026 mm |
Clarity2012 | +28 |
ColorComponents | 3 |
ColorNoiseReduction | 25 |
ColorNoiseReductionDetail | 50 |
ColorNoiseReductionSmoothness | 50 |
ColorSpace | sRGB |
ColorTemperature | 6757 |
ColorTransform | YCbCr |
Contrast2012 | 0 |
ConvertToGrayscale | False |
Copyright | ERLING.KVALSOREN40848497NORGE ME |
CopyrightNotice | ERLING.KVALSOREN40848497NORGE ME |
CreateDate (1) | 2016:11:29 14:34:06.30 |
CreateDate | 2016:11:29 14:34:06 |
CreatorTool | Adobe Photoshop Lightroom 6.0 (Windows) |
CropAngle | 1.35252 |
CropBottom | 0.92269 |
CropConstrainToWarp | 0 |
CropLeft | 0.116461 |
CropRight | 0.944721 |
CropTop | 0 |
CustomRendered | Normal |
DateCreated (1) | 2016:11:29 14:34:06.30 |
DateCreated | 2016:11:29 |
DateTimeOriginal | 2016:11:29 14:34:06 |
DefringeGreenAmount | 0 |
DefringeGreenHueHi | 60 |
DefringeGreenHueLo | 40 |
DefringePurpleAmount | 0 |
DefringePurpleHueHi | 70 |
DefringePurpleHueLo | 30 |
DOF | inf (382.32 m - inf) |
Exposure2012 | -0.83 |
ExposureCompensation | -1/3 |
ExposureMode | Auto |
ExposureProgram | Aperture-priority AE |
ExposureTime | 1/60 |
Firmware | 2.0.3 |
Flash | Off, Did not fire |
FlashCompensation | 0 |
FNumber | 5.6 |
FocalLength | 235.0 mm |
FocalLength35efl | 235.0 mm (35 mm equivalent: 273.7 mm) |
Format | image/jpeg |
FOV | 7.5 deg |
GrainAmount | 3 |
GrainFrequency | 5 |
GrainSize | 0 |
GreenHue | 0 |
GreenSaturation | 0 |
HasCrop | True |
HasSettings | True |
Highlights2012 | -100 |
HueAdjustmentAqua | 0 |
HueAdjustmentBlue | 0 |
HueAdjustmentGreen | 0 |
HueAdjustmentMagenta | 0 |
HueAdjustmentOrange | 0 |
HueAdjustmentPurple | 0 |
HueAdjustmentRed | 0 |
HueAdjustmentYellow | +17 |
HyperfocalDistance | 382.32 m |
ImageHeight | 3087 |
ImageNumber | 0 |
ImageSize | 4368x3087 |
ImageWidth | 4368 |
ISO | 400 |
Lens | EF28-300mm f/3.5-5.6L IS USM |
LensID (1) | 233 |
LensID | Canon EF 28-300mm f/3.5-5.6L IS USM |
LensInfo | 28-300mm f/? |
LensManualDistortionAmount | 0 |
LensModel | EF28-300mm f/3.5-5.6L IS USM |
LensProfileEnable | 0 |
LensProfileSetup | LensDefaults |
LensSerialNumber | 0000206f71 |
LightValue | 8.9 |
LuminanceAdjustmentAqua | 0 |
LuminanceAdjustmentBlue | 0 |
LuminanceAdjustmentGreen | 0 |
LuminanceAdjustmentMagenta | 0 |
LuminanceAdjustmentOrange | +61 |
LuminanceAdjustmentPurple | 0 |
LuminanceAdjustmentRed | 0 |
LuminanceAdjustmentYellow | +76 |
LuminanceNoiseReductionContrast | 0 |
LuminanceNoiseReductionDetail | 50 |
LuminanceSmoothing | 65 |
Make | Canon |
MaxApertureValue | 5.7 |
Megapixels | 13.5 |
MeteringMode | Multi-segment |
Model | Canon EOS-1D X |
ModifyDate (1) | 2016:11:30 12:37:18+01:00 |
ModifyDate | 2016:11:30 12:37:18 |
Orientation | Horizontal (normal) |
PaintCorrectionActive | true |
PaintCorrectionAmount | 1.000000 |
PaintCorrectionBrightness | 0.000000 |
PaintCorrectionClarity2012 | 0.000000 |
PaintCorrectionContrast2012 (4) | -0.261260 |
PaintCorrectionContrast2012 | 0.000000 |
PaintCorrectionDefringe | 0.000000 |
PaintCorrectionExposure2012 (1) | 1.000000 |
PaintCorrectionExposure2012 (3) | 0.477500 |
PaintCorrectionExposure2012 (4) | 0.207250 |
PaintCorrectionExposure2012 (5) | 0.045000 |
PaintCorrectionExposure2012 (6) | 0.027000 |
PaintCorrectionExposure2012 | 0.000000 |
PaintCorrectionHighlights2012 | -0.045050 |
PaintCorrectionHue (1) | 45.000000 |
PaintCorrectionHue | 52.000000 |
PaintCorrectionLuminanceNoise | 0.000000 |
PaintCorrectionMaskCenterWeight | 0.153068 |
PaintCorrectionMaskFlow | 0.868000 |
PaintCorrectionMaskRadius (10) | 0.232200 |
PaintCorrectionMaskRadius (11) | 0.098107 |
PaintCorrectionMaskRadius (13) | 0.186067 |
PaintCorrectionMaskRadius (14) | 0.131996 |
PaintCorrectionMaskRadius (15) | 0.120754 |
PaintCorrectionMaskRadius (7) | 0.004747 |
PaintCorrectionMaskRadius | 0.059597 |
PaintCorrectionMaskValue | 0.580000 |
PaintCorrectionMaskWhat | Mask/Paint |
PaintCorrectionMoire | 0.000000 |
PaintCorrectionSaturation (13) | 0.000000 |
PaintCorrectionSaturation (2) | 0.950000 |
PaintCorrectionSaturation | 0.100000 |
PaintCorrectionShadows2012 | 0.000000 |
PaintCorrectionSharpness | 1.000000 |
PaintCorrectionTemperature | 0.000000 |
PaintCorrectionTint | 0.000000 |
PaintCorrectionWhat | Correction |
ParametricDarks | 0 |
ParametricHighlights | 0 |
ParametricHighlightSplit | 75 |
ParametricLights | 0 |
ParametricMidtoneSplit | 50 |
ParametricShadows | 0 |
ParametricShadowSplit | 25 |
PerspectiveAspect | 0 |
PerspectiveHorizontal | 0 |
PerspectiveRotate | 0.0 |
PerspectiveScale | 100 |
PerspectiveUpright | 0 |
PerspectiveVertical | 0 |
PostCropVignetteAmount | +32 |
PostCropVignetteFeather | 23 |
PostCropVignetteMidpoint | 28 |
PostCropVignetteRoundness | -100 |
PostCropVignetteStyle | 1 |
ProcessVersion | 6.7 |
ProfileDescription | sRGB IEC61966-2.1 |
RawFileName | CK6R8124.jpg |
RecommendedExposureIndex | 400 |
RedHue | 0 |
RedSaturation | 0 |
Rights | ERLING.KVALSOREN40848497NORGE ME |
Saturation | -53 |
SaturationAdjustmentAqua | 0 |
SaturationAdjustmentBlue | 0 |
SaturationAdjustmentGreen | 0 |
SaturationAdjustmentMagenta | 0 |
SaturationAdjustmentOrange | +23 |
SaturationAdjustmentPurple | 0 |
SaturationAdjustmentRed | 0 |
SaturationAdjustmentYellow | -16 |
ScaleFactor35efl | 1.2 |
SceneCaptureType | Standard |
SensitivityType | Recommended Exposure Index |
SerialNumber | 063012000926 |
Shadows2012 | +42 |
ShadowTint | 0 |
SharpenDetail | 38 |
SharpenEdgeMasking | 64 |
SharpenRadius | +2.4 |
Sharpness | 115 |
ShutterSpeed | 1/60 |
ShutterSpeedValue | 1/60 |
Software | Adobe Photoshop Lightroom 6.0 (Windows) |
SplitToningBalance | 0 |
SplitToningHighlightHue | 0 |
SplitToningHighlightSaturation | 0 |
SplitToningShadowHue | 0 |
SplitToningShadowSaturation | 0 |
Tint | +6 |
ToneCurve | 0, 0, 255, 255 |
ToneCurveBlue | 0, 0, 255, 255 |
ToneCurveGreen | 0, 0, 255, 255 |
ToneCurveName | Linear |
ToneCurveName2012 | Linear |
ToneCurvePV2012 | 0, 0, 255, 255 |
ToneCurvePV2012Blue | 0, 0, 255, 255 |
ToneCurvePV2012Green | 0, 0, 255, 255 |
ToneCurvePV2012Red | 0, 0, 255, 255 |
ToneCurveRed | 0, 0, 255, 255 |
Version | 9.0 |
Vibrance | +7 |
VignetteAmount | 0 |
WhiteBalance (1) | Custom |
WhiteBalance | Auto |
Whites2012 | -53 |