Felt | Verdi |
AbsoluteAltitude | +1.20 |
AlreadyApplied | True |
Aperture | 4.0 |
ApertureValue | 4.0 |
AutoLateralCA | 1 |
BitsPerSample | 8 |
Blacks2012 | -42 |
BlueHue | 0 |
BlueSaturation | 0 |
CameraProfile | Embedded |
CamReverse | 0 |
Caption-Abstract | default |
CircGradBasedCorrActive | true |
CircGradBasedCorrAmount | 1.000000 |
CircGradBasedCorrBrightness | 0.000000 |
CircGradBasedCorrClarity2012 | 0.037037 |
CircGradBasedCorrContrast2012 | 0.000000 |
CircGradBasedCorrCorrectionRangeMaskColorAmount | 0.500000 |
CircGradBasedCorrCorrectionRangeMaskDepthFeather | 0.500000 |
CircGradBasedCorrCorrectionRangeMaskDepthMax | 1.000000 |
CircGradBasedCorrCorrectionRangeMaskDepthMin | 0.000000 |
CircGradBasedCorrCorrectionRangeMaskLumFeather | 0.500000 |
CircGradBasedCorrCorrectionRangeMaskLumMax | 1.000000 |
CircGradBasedCorrCorrectionRangeMaskLumMin | 0.000000 |
CircGradBasedCorrCorrectionRangeMaskType | 0 |
CircGradBasedCorrCorrectionRangeMaskVersion | +2 |
CircGradBasedCorrDefringe | 0.000000 |
CircGradBasedCorrExposure2012 | 0.010000 |
CircGradBasedCorrHighlights2012 | 0.030303 |
CircGradBasedCorrHue | 0.000000 |
CircGradBasedCorrLocalBlacks2012 | -0.087542 |
CircGradBasedCorrLocalDehaze | -0.063973 |
CircGradBasedCorrLocalWhites2012 | 0.656566 |
CircGradBasedCorrLuminanceNoise | -0.013468 |
CircGradBasedCorrMaskAngle | 10.080147 |
CircGradBasedCorrMaskBottom | 0.644951 |
CircGradBasedCorrMaskFeather | +50 |
CircGradBasedCorrMaskFlipped | true |
CircGradBasedCorrMaskLeft | 0.426395 |
CircGradBasedCorrMaskMidpoint | +50 |
CircGradBasedCorrMaskRight | 0.844484 |
CircGradBasedCorrMaskRoundness | 0 |
CircGradBasedCorrMaskTop | 0.407336 |
CircGradBasedCorrMaskValue | 1.000000 |
CircGradBasedCorrMaskVersion | +2 |
CircGradBasedCorrMaskWhat | Mask/CircularGradient |
CircGradBasedCorrMoire | -0.050505 |
CircGradBasedCorrSaturation (1) | 0.037037 |
CircGradBasedCorrSaturation | 0.000000 |
CircGradBasedCorrShadows2012 | 0.010101 |
CircGradBasedCorrSharpness | 0.037037 |
CircGradBasedCorrTemperature | 0.000000 |
CircGradBasedCorrTint | 0.000000 |
CircGradBasedCorrWhat | Correction |
CircleOfConfusion | 0.011 mm |
Clarity2012 | +12 |
ColorComponents | 3 |
ColorNoiseReduction | 0 |
ColorSpace | sRGB |
ColorTransform | YCbCr |
Contrast | Normal |
Contrast2012 | +21 |
ConvertToGrayscale | False |
CreateDate | 2018:11:22 15:37:16 |
CreatorTool | Adobe Lightroom CC 2.0.2 (Windows) |
DateCreated (1) | 2018:11:22 |
DateCreated | 2018:11:22 15:37:16 |
DateTimeOriginal | 2018:11:22 15:37:16 |
DefringeGreenAmount | 0 |
DefringeGreenHueHi | 60 |
DefringeGreenHueLo | 40 |
DefringePurpleAmount | 0 |
DefringePurpleHueHi | 70 |
DefringePurpleHueLo | 30 |
Dehaze | +11 |
Description | default |
DigitalZoomRatio | 1 |
Exposure2012 | -0.74 |
ExposureCompensation | 0 |
ExposureMode | Auto |
ExposureProgram | Program AE |
ExposureTime | 1/120 |
Flash | No Flash |
FlightPitchDegree | -0.30 |
FlightRollDegree | +0.40 |
FlightYawDegree | -176.90 |
FNumber | 4.0 |
FocalLength | 10.3 mm |
FocalLength35efl | 10.3 mm (35 mm equivalent: 28.0 mm) |
FocalLengthIn35mmFormat | 28 mm |
Format | image/jpeg |
FOV | 65.5 deg |
GainControl | None |
GimbalPitchDegree | -12.50 |
GimbalReverse | 0 |
GimbalRollDegree | +0.00 |
GimbalYawDegree | +136.10 |
GPSAltitude (1) | 0 m |
GPSAltitude | 0 m Above Sea Level |
GPSAltitudeRef | Below Sea Level |
GPSLatitude (1) | 58 deg 58' 15.62" |
GPSLatitude | 58 deg 58' 15.62" N |
GPSLatitudeRef | North |
GPSLongitude (1) | 10 deg 8' 54.01" |
GPSLongitude | 10 deg 8' 54.01" E |
GPSLongitudeRef | East |
GPSPosition | 58 deg 58' 15.62" N, 10 deg 8' 54.01" E |
GPSVersionID | 2.3.0.0 |
GradientBasedCorrActive | true |
GradientBasedCorrAmount | 1.000000 |
GradientBasedCorrBrightness | 0.000000 |
GradientBasedCorrClarity2012 (1) | -0.670034 |
GradientBasedCorrClarity2012 | -1.000000 |
GradientBasedCorrContrast2012 | 0.000000 |
GradientBasedCorrCorrectionRangeMaskColorAmount | 0.500000 |
GradientBasedCorrCorrectionRangeMaskDepthFeather | 0.500000 |
GradientBasedCorrCorrectionRangeMaskDepthMax | 1.000000 |
GradientBasedCorrCorrectionRangeMaskDepthMin | 0.000000 |
GradientBasedCorrCorrectionRangeMaskLumFeather | 0.500000 |
GradientBasedCorrCorrectionRangeMaskLumMax | 1.000000 |
GradientBasedCorrCorrectionRangeMaskLumMin | 0.000000 |
GradientBasedCorrCorrectionRangeMaskType | 0 |
GradientBasedCorrCorrectionRangeMaskVersion | +2 |
GradientBasedCorrDefringe | 0.000000 |
GradientBasedCorrExposure2012 (1) | -0.040000 |
GradientBasedCorrExposure2012 | -0.170000 |
GradientBasedCorrHighlights2012 (1) | -0.838384 |
GradientBasedCorrHighlights2012 | -0.104377 |
GradientBasedCorrHue | 0.000000 |
GradientBasedCorrLocalBlacks2012 | 0.451178 |
GradientBasedCorrLocalDehaze (1) | -0.447811 |
GradientBasedCorrLocalDehaze | 0.047138 |
GradientBasedCorrLocalWhites2012 | 0.612795 |
GradientBasedCorrLuminanceNoise | -0.013468 |
GradientBasedCorrMaskFullX (1) | 0.554373 |
GradientBasedCorrMaskFullX | 0.874728 |
GradientBasedCorrMaskFullY (1) | 0.163603 |
GradientBasedCorrMaskFullY | 0.083333 |
GradientBasedCorrMaskValue | 1.000000 |
GradientBasedCorrMaskWhat | Mask/Gradient |
GradientBasedCorrMaskZeroX (1) | 0.554163 |
GradientBasedCorrMaskZeroX | 0.816994 |
GradientBasedCorrMaskZeroY (1) | 0.231910 |
GradientBasedCorrMaskZeroY | 0.417211 |
GradientBasedCorrMoire | -0.592593 |
GradientBasedCorrSaturation (1) | 0.939393 |
GradientBasedCorrSaturation (3) | 1.000000 |
GradientBasedCorrSaturation | 0.000000 |
GradientBasedCorrShadows2012 (1) | -0.508418 |
GradientBasedCorrShadows2012 | 0.481481 |
GradientBasedCorrSharpness (1) | 0.050505 |
GradientBasedCorrSharpness | -1.000000 |
GradientBasedCorrTemperature | 0.000000 |
GradientBasedCorrTint | 0.000000 |
GradientBasedCorrWhat | Correction |
GrainAmount | 0 |
GreenHue | 0 |
GreenSaturation | 0 |
HasCrop | False |
HasExtendedXMP | 970C5FE36A54D7736D2381A186179313 |
HasSettings | True |
Highlights2012 | -59 |
HueAdjustmentAqua | 0 |
HueAdjustmentBlue | 0 |
HueAdjustmentGreen | 0 |
HueAdjustmentMagenta | 0 |
HueAdjustmentOrange | 0 |
HueAdjustmentPurple | 0 |
HueAdjustmentRed | 0 |
HueAdjustmentYellow | 0 |
HyperfocalDistance | 2.39 m |
ImageDescription | default |
ImageHeight | 3648 |
ImageSize | 5472x3648 |
ImageWidth | 5472 |
IncrementalTemperature | +14 |
IncrementalTint | -1 |
ISO | 100 |
LateralChromaticAberrationCorrectionAlreadyApplied | True |
Latitude | 58 deg 58' 15.70" N |
Lens | 28.0 mm f/2.8 |
LensInfo | 28mm f/2.8-11 |
LensManualDistortionAmount | 0 |
LensModel | 28.0 mm f/2.8 |
LensProfileEnable | 0 |
LensProfileSetup | LensDefaults |
LightSource | Daylight |
LightValue | 10.9 |
Longitude | 10 deg 8' 54.02" E |
LookName | |
LuminanceAdjustmentAqua | 0 |
LuminanceAdjustmentBlue | 0 |
LuminanceAdjustmentGreen | 0 |
LuminanceAdjustmentMagenta | 0 |
LuminanceAdjustmentOrange | 0 |
LuminanceAdjustmentPurple | 0 |
LuminanceAdjustmentRed | 0 |
LuminanceAdjustmentYellow | 0 |
LuminanceNoiseReductionContrast | 0 |
LuminanceNoiseReductionDetail | 50 |
LuminanceSmoothing | 15 |
Make | Hasselblad |
MaxApertureValue | 2.8 |
Megapixels | 20.0 |
MeteringMode | Center-weighted average |
Model | L1D-20c |
ModifyDate (1) | 2018:11:22 18:37:18+01:00 |
ModifyDate | 2018:11:22 18:37:18 |
OverrideLookVignette | False |
PaintCorrectionActive | true |
PaintCorrectionAmount | 1.000000 |
PaintCorrectionBrightness | 0.000000 |
PaintCorrectionClarity2012 (1) | -0.333333 |
PaintCorrectionClarity2012 | 0.326600 |
PaintCorrectionContrast2012 | 0.000000 |
PaintCorrectionCorrectionRangeMaskColorAmount | 0.500000 |
PaintCorrectionCorrectionRangeMaskDepthFeather | 0.500000 |
PaintCorrectionCorrectionRangeMaskDepthMax | 1.000000 |
PaintCorrectionCorrectionRangeMaskDepthMin | 0.000000 |
PaintCorrectionCorrectionRangeMaskLumFeather | 0.500000 |
PaintCorrectionCorrectionRangeMaskLumMax | 1.000000 |
PaintCorrectionCorrectionRangeMaskLumMin | 0.000000 |
PaintCorrectionCorrectionRangeMaskType | 0 |
PaintCorrectionCorrectionRangeMaskVersion | +2 |
PaintCorrectionDefringe | 0.000000 |
PaintCorrectionExposure2012 (1) | 0.500000 |
PaintCorrectionExposure2012 (2) | 1.000000 |
PaintCorrectionExposure2012 | 0.370000 |
PaintCorrectionHighlights2012 (1) | 0.000000 |
PaintCorrectionHighlights2012 (2) | 0.404040 |
PaintCorrectionHighlights2012 | 0.707070 |
PaintCorrectionHue | 0.000000 |
PaintCorrectionLocalBlacks2012 (2) | 0.417508 |
PaintCorrectionLocalBlacks2012 | -0.525253 |
PaintCorrectionLocalDehaze | 0.491582 |
PaintCorrectionLocalWhites2012 (1) | 0.276094 |
PaintCorrectionLocalWhites2012 (2) | 0.976431 |
PaintCorrectionLocalWhites2012 | -0.666667 |
PaintCorrectionLuminanceNoise | 0.101010 |
PaintCorrectionMaskCenterWeight | 0.000000 |
PaintCorrectionMaskFlow | 0.500000 |
PaintCorrectionMaskRadius (1) | 0.068166 |
PaintCorrectionMaskRadius (2) | 0.026553 |
PaintCorrectionMaskRadius | 0.013037 |
PaintCorrectionMaskValue | 1.000000 |
PaintCorrectionMaskWhat | Mask/Paint |
PaintCorrectionMoire | -0.592593 |
PaintCorrectionSaturation (5) | 0.494949 |
PaintCorrectionSaturation | 0.000000 |
PaintCorrectionShadows2012 (1) | 0.000000 |
PaintCorrectionShadows2012 | 0.609428 |
PaintCorrectionSharpness (1) | -0.491582 |
PaintCorrectionSharpness | 0.407407 |
PaintCorrectionTemperature | 0.000000 |
PaintCorrectionTint | 0.000000 |
PaintCorrectionWhat | Correction |
ParametricDarks | 0 |
ParametricHighlights | 0 |
ParametricHighlightSplit | 75 |
ParametricLights | 0 |
ParametricMidtoneSplit | 50 |
ParametricShadows | 0 |
ParametricShadowSplit | 25 |
PerspectiveAspect | 0 |
PerspectiveHorizontal | 0 |
PerspectiveRotate | 0.0 |
PerspectiveScale | 100 |
PerspectiveUpright | 0 |
PerspectiveVertical | 0 |
PerspectiveX | 0.00 |
PerspectiveY | 0.00 |
PostCropVignetteAmount | -2 |
PostCropVignetteFeather | 50 |
PostCropVignetteHighlightContrast | 0 |
PostCropVignetteMidpoint | 50 |
PostCropVignetteRoundness | 0 |
PostCropVignetteStyle | 1 |
ProcessVersion | 11.0 |
ProfileDescription | sRGB IEC61966-2.1 |
RawFileName | |
RedHue | 0 |
RedSaturation | 0 |
RelativeAltitude | -93.05 |
Saturation (1) | +26 |
Saturation | Normal |
SaturationAdjustmentAqua | 0 |
SaturationAdjustmentBlue | 0 |
SaturationAdjustmentGreen | 0 |
SaturationAdjustmentMagenta | 0 |
SaturationAdjustmentOrange | 0 |
SaturationAdjustmentPurple | 0 |
SaturationAdjustmentRed | 0 |
SaturationAdjustmentYellow | 0 |
ScaleFactor35efl | 2.7 |
SceneCaptureType | Standard |
SceneType | Directly photographed |
SelfData | Self data |
SerialNumber | 0K8TF7W0025503 |
Shadows2012 | +73 |
ShadowTint | 0 |
SharpenDetail | 25 |
SharpenEdgeMasking | 0 |
SharpenRadius | +1.0 |
Sharpness (1) | 41 |
Sharpness | Normal |
ShutterSpeed | 1/120 |
ShutterSpeedValue | 1/120 |
Software | Adobe Lightroom CC 2.0.2 (Windows) |
SplitToningBalance | 0 |
SplitToningHighlightHue | 0 |
SplitToningHighlightSaturation | 0 |
SplitToningShadowHue | 0 |
SplitToningShadowSaturation | 0 |
ToneCurve | 0, 0, 255, 255 |
ToneCurveBlue | 0, 0, 255, 255 |
ToneCurveGreen | 0, 0, 255, 255 |
ToneCurveName | Linear |
ToneCurveName2012 | Linear |
ToneCurvePV2012 | 0, 0, 255, 255 |
ToneCurvePV2012Blue | 0, 0, 255, 255 |
ToneCurvePV2012Green | 0, 0, 255, 255 |
ToneCurvePV2012Red | 0, 0, 255, 255 |
ToneCurveRed | 0, 0, 255, 255 |
ToneMapStrength | 0 |
Version | 11.0 |
Vibrance | +35 |
VignetteAmount | 0 |
WhiteBalance (1) | Custom |
WhiteBalance | Auto |
Whites2012 | -16 |