Felt | Verdi |
AlreadyApplied | True |
Aperture | 2.4 |
ApertureValue | 2.4 |
AutoLateralCA | 1 |
BitsPerSample | 8 |
Blacks2012 | -71 |
BlueHue | 0 |
BlueSaturation | 0 |
CameraProfile | Adobe Standard |
Clarity2012 | -10 |
ColorComponents | 3 |
ColorGradeBlending | 100 |
ColorGradeGlobalHue | 0 |
ColorGradeGlobalLum | 0 |
ColorGradeGlobalSat | 0 |
ColorGradeHighlightLum | 0 |
ColorGradeMidtoneHue | 0 |
ColorGradeMidtoneLum | 0 |
ColorGradeMidtoneSat | 0 |
ColorGradeShadowLum | 0 |
ColorNoiseReduction | 23 |
ColorNoiseReductionDetail | 50 |
ColorNoiseReductionSmoothness | 50 |
ColorSpace | sRGB |
ColorTemperature | 5400 |
ColorTransform | YCbCr |
CompatibleVersion | 234881024 |
Contrast2012 | +25 |
ConvertToGrayscale | False |
CreatorTool | Adobe Photoshop Lightroom Classic 11.5 (Windows) |
CropAngle | 0.238677 |
CropBottom | 0.986515 |
CropConstrainToWarp | 0 |
CropLeft | 0.032506 |
CropRight | 0.996935 |
CropTop | 0.00377 |
DateCreated (1) | 2022:06:25 |
DateCreated | 2022:06:25 13:10:23 |
DateTimeOriginal | 2022:06:25 13:10:23 |
DefringeGreenAmount | 0 |
DefringeGreenHueHi | 60 |
DefringeGreenHueLo | 40 |
DefringePurpleAmount | 0 |
DefringePurpleHueHi | 70 |
DefringePurpleHueLo | 30 |
Dehaze | +5 |
DistortionCorrectionAlreadyApplied | True |
Exposure2012 | +0.90 |
ExposureTime | 1/750 |
FNumber | 2.4 |
FocalLength | 7.9 mm |
FocalLength35efl | 7.9 mm |
Format | image/jpeg |
GrainAmount | 35 |
GrainFrequency | 36 |
GrainSize | 27 |
GreenHue | 0 |
GreenSaturation | 0 |
HasCrop | True |
HasSettings | True |
Highlights2012 | -32 |
HueAdjustmentAqua | 0 |
HueAdjustmentBlue | 0 |
HueAdjustmentGreen | 0 |
HueAdjustmentMagenta | 0 |
HueAdjustmentOrange | 0 |
HueAdjustmentPurple | 0 |
HueAdjustmentRed | 0 |
HueAdjustmentYellow | 0 |
ImageHeight | 1200 |
ImageSize | 1584x1200 |
ImageWidth | 1584 |
ISO | 50 |
LateralChromaticAberrationCorrectionAlreadyApplied | True |
Lens | Samsung Galaxy S22 Ultra Rear Telephoto Camera |
LensManualDistortionAmount | 0 |
LensModel | Samsung Galaxy S22 Ultra Rear Telephoto Camera |
LensProfileDistortionScale | 100 |
LensProfileEnable | 1 |
LensProfileFilename | Samsung Galaxy S22 Ultra Rear Telephoto Camera - RAW.lcp |
LensProfileIsEmbedded | False |
LensProfileName | Adobe (Samsung Galaxy S22 Ultra Rear Telephoto Camera) |
LensProfileSetup | LensDefaults |
LensProfileVignettingScale | 100 |
LightValue | 13.1 |
LuminanceAdjustmentAqua | 0 |
LuminanceAdjustmentBlue | 0 |
LuminanceAdjustmentGreen | 0 |
LuminanceAdjustmentMagenta | 0 |
LuminanceAdjustmentOrange | 0 |
LuminanceAdjustmentPurple | 0 |
LuminanceAdjustmentRed | 0 |
LuminanceAdjustmentYellow | 0 |
LuminanceNoiseReductionContrast | 5 |
LuminanceNoiseReductionDetail | 50 |
LuminanceSmoothing | 10 |
Make | samsung |
Megapixels | 1.9 |
Model | SM-S908B |
ModifyDate (1) | 2022:09:12 12:48:01+02:00 |
ModifyDate | 2022:09:12 12:48:01 |
OverrideLookVignette | True |
ParametricDarks | 0 |
ParametricHighlights | 0 |
ParametricHighlightSplit | 75 |
ParametricLights | 0 |
ParametricMidtoneSplit | 50 |
ParametricShadows | 0 |
ParametricShadowSplit | 25 |
PerspectiveAspect | 0 |
PerspectiveHorizontal | 0 |
PerspectiveRotate | 0.0 |
PerspectiveScale | 100 |
PerspectiveUpright | 0 |
PerspectiveVertical | 0 |
PerspectiveX | 0.00 |
PerspectiveY | 0.00 |
PostCropVignetteAmount | -20 |
PostCropVignetteFeather | 66 |
PostCropVignetteHighlightContrast | 0 |
PostCropVignetteMidpoint | 45 |
PostCropVignetteRoundness | +15 |
PostCropVignetteStyle | 1 |
PreservedFileName | 20220625_131023.dng |
ProcessVersion | 11.0 |
ProfileDescription | sRGB IEC61966-2.1 |
RawFileName | 20220625_131023.dng |
RedHue | 0 |
RedSaturation | 0 |
Saturation | -16 |
SaturationAdjustmentAqua | 0 |
SaturationAdjustmentBlue | 0 |
SaturationAdjustmentGreen | 0 |
SaturationAdjustmentMagenta | 0 |
SaturationAdjustmentOrange | 0 |
SaturationAdjustmentPurple | 0 |
SaturationAdjustmentRed | 0 |
SaturationAdjustmentYellow | 0 |
Shadows2012 | +10 |
ShadowTint | 0 |
SharpenDetail | 16 |
SharpenEdgeMasking | 20 |
SharpenRadius | +1.4 |
Sharpness | 47 |
ShutterSpeed | 1/750 |
ShutterSpeedValue | 1/750 |
Software | Adobe Photoshop Lightroom Classic 11.5 (Windows) |
SplitToningBalance | +26 |
SplitToningHighlightHue | 54 |
SplitToningHighlightSaturation | 22 |
SplitToningShadowHue | 264 |
SplitToningShadowSaturation | 26 |
Texture | +18 |
Tint | +12 |
ToneCurveName2012 | Custom |
ToneCurvePV2012 | 0, 50, 57, 65, 125, 133, 202, 207, 255, 242 |
ToneCurvePV2012Blue | 0, 0, 62, 71, 125, 133, 194, 196, 255, 255 |
ToneCurvePV2012Green | 0, 0, 63, 66, 129, 133, 193, 195, 255, 255 |
ToneCurvePV2012Red | 0, 0, 54, 48, 126, 127, 195, 199, 255, 255 |
Version | 14.5 |
Vibrance | +25 |
VignetteAmount | 0 |
WhiteBalance | As Shot |
Whites2012 | -62 |