Felt | Verdi |
AlreadyApplied | True |
Aperture | 7.1 |
ApertureValue | 7.1 |
BitsPerSample | 8 |
BlueHue | 0 |
BlueSaturation | 0 |
Brightness | +40 |
CameraProfile | ACR 3.3 |
CFAPattern | [Green,Red][Blue,Green] |
ChromaticAberrationB | 0 |
ChromaticAberrationR | 0 |
CircleOfConfusion | 0.020 mm |
Clarity | 99 |
ColorComponents | 3 |
ColorMode | RGB |
ColorNoiseReduction | 25 |
ColorSpace (1) | Unknown (-1) |
ColorSpace | Uncalibrated |
ColorTemperature | 5100 |
Contrast (2) | +11 |
Contrast | Normal |
ConvertToGrayscale | False |
CopyrightFlag | False |
CreateDate (1) | 2008:03:11 20:41:08+01:00 |
CreateDate | 2007:09:02 14:37:14 |
CreatorTool | Adobe Photoshop CS3 Windows |
CropAngle | 0 |
CropBottom | 0.998894 |
CropLeft | 0.228889 |
CropRight | 0.802963 |
CropTop | 0.002212 |
CustomRendered | Normal |
DateTimeDigitized | 2007:09:02 14:37:14.24+02:00 |
DateTimeOriginal (1) | 2007:09:02 14:37:14.24+02:00 |
DateTimeOriginal | 2007:09:02 14:37:14 |
Defringe | 0 |
DigitalZoomRatio | 1 |
ExifImageHeight | 700 |
ExifImageWidth | 602 |
Exposure | 0.00 |
ExposureCompensation | 0 |
ExposureMode | Auto |
ExposureProgram | Program AE |
ExposureTime | 1/180 |
FillLight | 99 |
Flash | No Flash |
FlashFired | False |
FlashFunction | False |
FlashMode | Unknown |
FlashRedEyeMode | False |
FlashReturn | No return detection |
FNumber | 7.1 |
FocalLength | 28.0 mm |
FocalLength35efl | 28.0 mm (35 mm equivalent: 42.0 mm) |
FocalLengthIn35mmFormat | 42 mm |
Format | image/jpeg |
FOV | 46.4 deg |
GainControl | Low gain up |
GreenHue | 0 |
GreenSaturation | 0 |
HasCrop | True |
HasSettings | True |
HighlightRecovery | 38 |
HueAdjustmentAqua | -3 |
HueAdjustmentBlue | +3 |
HueAdjustmentGreen | -5 |
HueAdjustmentMagenta | 0 |
HueAdjustmentOrange | +20 |
HueAdjustmentPurple | 0 |
HueAdjustmentRed | -8 |
HueAdjustmentYellow | -2 |
HyperfocalDistance | 5.51 m |
ICCProfileName | Adobe RGB (1998) |
ImageHeight | 700 |
ImageNumber | 23704 |
ImageSize | 602x700 |
ImageWidth | 602 |
ISO | 400 |
Lens | 28.0-105.0 mm f/3.5-4.5 |
LensInfo | 28-105mm f/3.5-4.5 |
LightSource | Unknown |
LightValue | 11.1 |
LuminanceAdjustmentAqua | 0 |
LuminanceAdjustmentBlue | 0 |
LuminanceAdjustmentGreen | 0 |
LuminanceAdjustmentMagenta | 0 |
LuminanceAdjustmentOrange | 0 |
LuminanceAdjustmentPurple | 0 |
LuminanceAdjustmentRed | 0 |
LuminanceAdjustmentYellow | 0 |
LuminanceSmoothing | 0 |
Make | NIKON CORPORATION |
MaxApertureValue | 3.5 |
Megapixels | 0.421 |
MeteringMode | Multi-segment |
Model | NIKON D200 |
ModifyDate (1) | 2008:03:11 20:41:08+01:00 |
ModifyDate | 2008:03:11 20:41:08 |
Orientation | Horizontal (normal) |
ParametricDarks | -23 |
ParametricHighlights | -2 |
ParametricHighlightSplit | 75 |
ParametricLights | -25 |
ParametricMidtoneSplit | 50 |
ParametricShadows | -7 |
ParametricShadowSplit | 25 |
ProfileDescription | Adobe RGB (1998) |
Rating | 0 |
RawFileName | _DSC0005.NEF |
RedHue | 0 |
RedSaturation | 0 |
Saturation (2) | +11 |
Saturation | Normal |
SaturationAdjustmentAqua | 0 |
SaturationAdjustmentBlue | 0 |
SaturationAdjustmentGreen | 0 |
SaturationAdjustmentMagenta | 0 |
SaturationAdjustmentOrange | 0 |
SaturationAdjustmentPurple | 0 |
SaturationAdjustmentRed | 0 |
SaturationAdjustmentYellow | 0 |
ScaleFactor35efl | 1.5 |
SceneCaptureType | Standard |
SceneType | Directly photographed |
SensingMethod | One-chip color area |
Shadows | 36 |
ShadowTint | 0 |
SharpenDetail | 25 |
SharpenEdgeMasking | 0 |
SharpenRadius | +1.0 |
Sharpness (2) | 25 |
Sharpness | Normal |
ShutterSpeed | 1/180 |
ShutterSpeedValue | 1/180 |
SidecarForExtension | NEF |
Software | Adobe Photoshop CS3 Windows |
SplitToningBalance | 0 |
SplitToningHighlightHue | 260 |
SplitToningHighlightSaturation | 6 |
SplitToningShadowHue | 189 |
SplitToningShadowSaturation | 7 |
SubjectDistanceRange | Unknown |
TimeZoneOffset | 2 2 |
Tint | 0 |
ToneCurve | 0, 0, 32, 22, 64, 56, 128, 128, 192, 196, 255, 255 |
ToneCurveName | Medium Contrast |
URL_List | |
Version | 4.1 |
Vibrance | -31 |
VignetteAmount | 0 |
WhiteBalance (2) | Custom |
WhiteBalance | Auto |