Felt | Verdi |
AlreadyApplied | True |
Aperture | 5.0 |
ApertureValue | 5.0 |
BitsPerSample (1) | 8, 8, 8 |
BitsPerSample | 8 |
BlueHue | 0 |
BlueSaturation | 0 |
Brightness | +50 |
CameraProfile | ACR 4.2 |
ChromaticAberrationB | 0 |
ChromaticAberrationR | 0 |
CircleOfConfusion | 0.019 mm |
Clarity | 12 |
ColorComponents | 3 |
ColorMode | RGB |
ColorNoiseReduction | 25 |
ColorSpace | sRGB |
ColorTemperature | 5700 |
Contrast | +46 |
ConvertToGrayscale | False |
CreateDate (1) | 2008:04:14 16:32:06+02:00 |
CreateDate | 2008:04:14 14:13:09 |
CreatorTool | Adobe Photoshop Elements 6.0 Windows |
CustomRendered | Normal |
DateTimeDigitized | 2008:04:14 14:13:09.26+1:00 |
DateTimeOriginal (1) | 2008:04:14 14:13:09.26+1:00 |
DateTimeOriginal | 2008:04:14 14:13:09 |
Defringe | 0 |
ExifImageHeight (1) | 1296 |
ExifImageHeight | 768 |
ExifImageWidth (1) | 1944 |
ExifImageWidth | 683 |
Exposure | +0.05 |
ExposureCompensation | -1/3 |
ExposureMode | Auto |
ExposureProgram | Shutter speed priority AE |
ExposureTime | 1/1250 |
FillLight | 0 |
Firmware | 1.0.8 |
Flash | Off, Did not fire |
FlashCompensation | 0 |
FlashFired | False |
FlashFunction | False |
FlashMode | Off |
FlashRedEyeMode | False |
FlashReturn | No return detection |
FNumber | 5.0 |
FocalLength | 420.0 mm |
FocalLength35efl | 420.0 mm (35 mm equivalent: 679.9 mm) |
Format | image/tiff |
FOV | 3.0 deg |
GreenHue | 0 |
GreenSaturation | 0 |
HasCrop | False |
HasSettings | True |
HighlightRecovery | 4 |
HueAdjustmentAqua | 0 |
HueAdjustmentBlue | 0 |
HueAdjustmentGreen | 0 |
HueAdjustmentMagenta | 0 |
HueAdjustmentOrange | 0 |
HueAdjustmentPurple | 0 |
HueAdjustmentRed | 0 |
HueAdjustmentYellow | 0 |
HyperfocalDistance | 1900.78 m |
ICCProfileName | sRGB IEC61966-2.1 |
ImageHeight (1) | 1296 |
ImageHeight | 768 |
ImageNumber | 0 |
ImageSize | 683x768 |
ImageWidth (1) | 1944 |
ImageWidth | 683 |
ISO | 200 |
Lens | EF300mm f/2.8L IS USM +1.4x |
LensInfo | 300mm f/? |
LightValue | 13.9 |
LuminanceAdjustmentAqua | 0 |
LuminanceAdjustmentBlue | 0 |
LuminanceAdjustmentGreen | 0 |
LuminanceAdjustmentMagenta | 0 |
LuminanceAdjustmentOrange | 0 |
LuminanceAdjustmentPurple | 0 |
LuminanceAdjustmentRed | 0 |
LuminanceAdjustmentYellow | 0 |
LuminanceSmoothing | 0 |
Make | Canon |
MaxApertureValue | 4.0 |
Megapixels | 0.525 |
MeteringMode | Multi-segment |
Model | Canon EOS 40D |
ModifyDate (1) | 2008:04:14 15:32:06.0+1:00 |
ModifyDate | 2008:04:14 17:51:37 |
ObjectName | |
Orientation | Horizontal (normal) |
ParametricDarks | 0 |
ParametricHighlights | 0 |
ParametricHighlightSplit | 75 |
ParametricLights | 0 |
ParametricMidtoneSplit | 50 |
ParametricShadows | 0 |
ParametricShadowSplit | 25 |
PhotometricInterpretation | RGB |
PlanarConfiguration | Chunky |
ProfileDescription | sRGB IEC61966-2.1 |
Rating | 0 |
RawFileName | IMG_1954.CR2 |
RedHue | 0 |
RedSaturation | 0 |
SamplesPerPixel | 3 |
Saturation | +15 |
SaturationAdjustmentAqua | 0 |
SaturationAdjustmentBlue | 0 |
SaturationAdjustmentGreen | 0 |
SaturationAdjustmentMagenta | 0 |
SaturationAdjustmentOrange | 0 |
SaturationAdjustmentPurple | 0 |
SaturationAdjustmentRed | 0 |
SaturationAdjustmentYellow | 0 |
ScaleFactor35efl | 1.6 |
SceneCaptureType | Standard |
SerialNumber | 630117019 |
Shadows | 5 |
ShadowTint | 0 |
SharpenDetail | 25 |
SharpenEdgeMasking | 0 |
SharpenRadius | +1.0 |
Sharpness | 25 |
ShutterSpeed | 1/1250 |
ShutterSpeedValue | 1/1250 |
SidecarForExtension | CR2 |
Software | ACD Systems Digital Imaging |
SplitToningBalance | 0 |
SplitToningHighlightHue | 0 |
SplitToningHighlightSaturation | 0 |
SplitToningShadowHue | 0 |
SplitToningShadowSaturation | 0 |
Tint | +1 |
Title | |
ToneCurve | 0, 0, 32, 22, 64, 56, 128, 128, 192, 196, 255, 255 |
ToneCurveName | Medium Contrast |
Version | 4.3.1 |
Vibrance | +14 |
VignetteAmount | 0 |
WhiteBalance (2) | Custom |
WhiteBalance | Auto |