Felt | Verdi |
AlreadyApplied | True |
Aperture | 3.5 |
ApertureValue | 3.5 |
BitsPerSample (1) | 16, 16, 16 |
BitsPerSample (2) | 16 16 16 |
BitsPerSample | 8 |
BlueHue | -5 |
BlueSaturation | +7 |
Brightness | +22 |
CameraProfile | ACR 4.2 |
Caption-Abstract | OLYMPUS DIGITAL CAMERA |
CFAPattern | [Red,Green][Green,Blue] |
ChromaticAberrationB | 0 |
ChromaticAberrationR | 0 |
Clarity | 25 |
ColorComponents | 3 |
ColorMode | RGB |
ColorNoiseReduction | 25 |
ColorSpace | sRGB |
ColorTemperature | 5850 |
Contrast (2) | +2 |
Contrast | Low |
ConvertToGrayscale | False |
CopyrightFlag | False |
CreateDate (1) | 2008:06:10 00:12:19-12:00 |
CreateDate | 2008:06:08 22:43:38 |
CreatorTool | Adobe Photoshop CS3 Windows |
CustomRendered | Normal |
DateTimeDigitized | 2008:06:08 22:43:38-12:00 |
DateTimeOriginal (1) | 2008:06:08 22:43:38-12:00 |
DateTimeOriginal | 2008:06:08 22:43:38 |
Defringe | 0 |
Description | OLYMPUS DIGITAL CAMERA |
DigitalZoomRatio | 1 |
ExifImageHeight | 426 |
ExifImageWidth | 568 |
Exposure | +0.76 |
ExposureCompensation | -1 |
ExposureMode | Auto bracket |
ExposureProgram | Aperture-priority AE |
ExposureTime | 1/200 |
FillLight | 49 |
Flash | Auto, Did not fire |
FlashCompensation | 0 |
FlashFired | False |
FlashFunction | False |
FlashMode | Auto |
FlashRedEyeMode | False |
FlashReturn | No return detection |
FNumber | 3.5 |
FocalLength | 17.0 mm |
FocalLength35efl | 17.0 mm |
Format | image/jpeg |
GainControl | None |
GreenHue | +27 |
GreenSaturation | 0 |
HasCrop | False |
HasSettings | True |
HighlightRecovery | 100 |
HueAdjustmentAqua | +2 |
HueAdjustmentBlue | 0 |
HueAdjustmentGreen | -24 |
HueAdjustmentMagenta | -5 |
HueAdjustmentOrange | +40 |
HueAdjustmentPurple | -5 |
HueAdjustmentRed | +19 |
HueAdjustmentYellow | +10 |
ICCProfileName | sRGB IEC61966-2.1 |
ImageDescription | OLYMPUS DIGITAL CAMERA |
ImageHeight (2) | 2736 |
ImageHeight | 426 |
ImageSize | 568x426 |
ImageWidth (2) | 3648 |
ImageWidth | 568 |
ISO | 100 |
Lens | 14.0-54.0 mm f/2.8-3.5 |
LensInfo | 14-54mm f/2.8-3.5 |
LensSerialNumber | 050208622 |
LightSource | Cloudy |
LightValue | 11.3 |
LuminanceAdjustmentAqua | -16 |
LuminanceAdjustmentBlue | -38 |
LuminanceAdjustmentGreen | -5 |
LuminanceAdjustmentMagenta | -5 |
LuminanceAdjustmentOrange | -12 |
LuminanceAdjustmentPurple | -5 |
LuminanceAdjustmentRed | -27 |
LuminanceAdjustmentYellow | -30 |
LuminanceSmoothing | 0 |
Make | OLYMPUS IMAGING CORP. |
MaxApertureValue | 2.8 |
Megapixels | 0.242 |
MeteringMode | Multi-segment |
Model | E-510 |
ModifyDate (1) | 2008:06:10 00:12:19-12:00 |
ModifyDate | 2008:06:10 00:12:19 |
Orientation | Horizontal (normal) |
ParametricDarks | -5 |
ParametricHighlights | -10 |
ParametricHighlightSplit | 75 |
ParametricLights | +50 |
ParametricMidtoneSplit | 50 |
ParametricShadows | -20 |
ParametricShadowSplit | 25 |
PhotometricInterpretation | RGB |
PlanarConfiguration | Chunky |
ProfileDescription | sRGB IEC61966-2.1 |
RedHue | -21 |
RedSaturation | 0 |
SamplesPerPixel | 3 |
Saturation (2) | 0 |
Saturation | Normal |
SaturationAdjustmentAqua | -31 |
SaturationAdjustmentBlue | -5 |
SaturationAdjustmentGreen | +32 |
SaturationAdjustmentMagenta | -24 |
SaturationAdjustmentOrange | -7 |
SaturationAdjustmentPurple | +9 |
SaturationAdjustmentRed | -3 |
SaturationAdjustmentYellow | -5 |
SceneCaptureType | Standard |
SerialNumber | D63576114 |
Shadows | 5 |
ShadowTint | 0 |
SharpenDetail | 0 |
SharpenEdgeMasking | 0 |
SharpenRadius | +0.5 |
Sharpness (2) | 0 |
Sharpness | Soft |
ShutterSpeed | 1/200 |
ShutterSpeedValue | 1/200 |
Software | Adobe Photoshop CS3 Windows |
SplitToningBalance | 0 |
SplitToningHighlightHue | 0 |
SplitToningHighlightSaturation | 0 |
SplitToningShadowHue | 0 |
SplitToningShadowSaturation | 2 |
Tint | +16 |
ToneCurve | 0, 0, 32, 22, 64, 56, 128, 128, 192, 196, 255, 255 |
ToneCurveName | Medium Contrast |
URL_List | |
Version | 1.0 |
Vibrance | +10 |
VignetteAmount | 0 |
WhiteBalance (2) | As Shot |
WhiteBalance | Manual |