Felt | Verdi |
AlreadyApplied | True |
Aperture | 3.5 |
ApertureValue | 3.5 |
BitsPerSample | 8 |
BlueHue | 0 |
BlueSaturation | 0 |
Brightness | +50 |
CameraProfile | ACR 4.4 |
CFAPattern | [Blue,Green][Green,Red] |
ChromaticAberrationB | 0 |
ChromaticAberrationR | 0 |
CircleOfConfusion | 0.020 mm |
Clarity | 0 |
ColorComponents | 3 |
ColorMode | RGB |
ColorNoiseReduction | 25 |
ColorSpace (1) | Unknown (-1) |
ColorSpace | Uncalibrated |
ColorTemperature | 5600 |
Contrast (2) | +25 |
Contrast | Normal |
ConvertToGrayscale | False |
CopyrightFlag | False |
CreateDate (1) | 2008:06:22 20:25:13+02:00 |
CreateDate | 2008:04:22 16:55:50 |
CreatorTool | Adobe Photoshop CS3 Windows |
CustomRendered | Normal |
DateTimeDigitized | 2008:04:22 16:55:50+02:00 |
DateTimeOriginal (1) | 2008:04:22 16:55:50+02:00 |
DateTimeOriginal | 2008:04:22 16:55:50 |
Defringe | 0 |
ExifImageHeight | 532 |
ExifImageWidth | 800 |
Exposure | 0.00 |
ExposureCompensation | 0 |
ExposureMode | Manual |
ExposureProgram | Manual |
ExposureTime | 1/350 |
FillLight | 0 |
Flash | Off, Did not fire |
FlashFired | False |
FlashFunction | False |
FlashMode | Off |
FlashRedEyeMode | False |
FlashReturn | No return detection |
FNumber | 3.5 |
FocalLength | 40.0 mm |
FocalLength35efl | 40.0 mm (35 mm equivalent: 60.0 mm) |
FocalLengthIn35mmFormat | 60 mm |
Format | image/jpeg |
FOV | 33.4 deg |
GreenHue | -48 |
GreenSaturation | +14 |
HasCrop | False |
HasSettings | True |
HighlightRecovery | 0 |
HueAdjustmentAqua | 0 |
HueAdjustmentBlue | 0 |
HueAdjustmentGreen | 0 |
HueAdjustmentMagenta | 0 |
HueAdjustmentOrange | 0 |
HueAdjustmentPurple | 0 |
HueAdjustmentRed | 0 |
HueAdjustmentYellow | +10 |
HyperfocalDistance | 22.82 m |
ICCProfileName | Adobe RGB (1998) |
ImageHeight | 532 |
ImageSize | 800x532 |
ImageWidth | 800 |
ISO | 200 |
Lens | smc PENTAX-DA 40mm F2.8 Limited |
LensID (1) | 4 251 |
LensID | smc PENTAX-DA 40mm F2.8 Limited |
LensInfo | 40mm f/2.8 |
LightValue | 11.1 |
LuminanceAdjustmentAqua | -86 |
LuminanceAdjustmentBlue | -100 |
LuminanceAdjustmentGreen | -85 |
LuminanceAdjustmentMagenta | -66 |
LuminanceAdjustmentOrange | -24 |
LuminanceAdjustmentPurple | -67 |
LuminanceAdjustmentRed | -79 |
LuminanceAdjustmentYellow | -17 |
LuminanceSmoothing | 0 |
Make | PENTAX Corporation |
Megapixels | 0.426 |
MeteringMode | Spot |
Model | PENTAX K20D |
ModifyDate (1) | 2008:06:22 20:44:50+02:00 |
ModifyDate | 2008:06:22 20:44:50 |
Orientation | Horizontal (normal) |
ParametricDarks | -100 |
ParametricHighlights | +8 |
ParametricHighlightSplit | 66 |
ParametricLights | +100 |
ParametricMidtoneSplit | 33 |
ParametricShadows | -100 |
ParametricShadowSplit | 23 |
ProfileDescription | Adobe RGB (1998) |
Rating | 0 |
RawFileName | IMGP1425.PEF |
RedHue | +15 |
RedSaturation | -25 |
Saturation (2) | +24 |
Saturation | Normal |
SaturationAdjustmentAqua | 0 |
SaturationAdjustmentBlue | 0 |
SaturationAdjustmentGreen | 0 |
SaturationAdjustmentMagenta | 0 |
SaturationAdjustmentOrange | 0 |
SaturationAdjustmentPurple | 0 |
SaturationAdjustmentRed | 0 |
SaturationAdjustmentYellow | 0 |
ScaleFactor35efl | 1.5 |
SceneCaptureType | Standard |
SensingMethod | One-chip color area |
Shadows | 5 |
ShadowTint | +10 |
SharpenDetail | 25 |
SharpenEdgeMasking | 0 |
SharpenRadius | +1.2 |
Sharpness (2) | 49 |
Sharpness | Hard |
ShutterSpeed | 1/350 |
ShutterSpeedValue | 1/350 |
SidecarForExtension | PEF |
Software | Adobe Photoshop CS3 Windows |
SplitToningBalance | 0 |
SplitToningHighlightHue | 0 |
SplitToningHighlightSaturation | 0 |
SplitToningShadowHue | 0 |
SplitToningShadowSaturation | 0 |
SubjectDistanceRange | Macro |
Tint | -7 |
ToneCurve | 0, 0, 42, 38, 71, 65, 128, 128, 192, 196, 255, 255 |
ToneCurveName | Custom |
URL_List | |
Version | 4.4.1 |
Vibrance | 0 |
VignetteAmount | 0 |
WhiteBalance (2) | As Shot |
WhiteBalance | Manual |