Felt | Verdi |
AlreadyApplied | True |
Aperture | 16.0 |
ApertureValue | 16.0 |
BitsPerSample | 8 |
BlueHue | 0 |
BlueSaturation | 0 |
Brightness | +50 |
CameraProfile | ACR 4.4 |
ChromaticAberrationB | 0 |
ChromaticAberrationR | 0 |
CircleOfConfusion | 0.019 mm |
Clarity | 0 |
ColorComponents | 3 |
ColorMode | RGB |
ColorNoiseReduction | 25 |
ColorSpace | sRGB |
ColorTemperature | 4800 |
Contrast | +25 |
ConvertToGrayscale | False |
CopyrightFlag | False |
CreateDate (1) | 2008:09:11 23:06:07+02:00 |
CreateDate | 2008:08:12 19:15:09 |
CreatorTool | Adobe Photoshop CS3 Windows |
CustomRendered | Normal |
DateTimeDigitized | 2008:08:12 19:15:09.72+02:00 |
DateTimeOriginal (1) | 2008:08:12 19:15:09.72+02:00 |
DateTimeOriginal | 2008:08:12 19:15:09 |
Defringe | 0 |
ExifImageHeight | 658 |
ExifImageWidth | 1000 |
Exposure | 0.00 |
ExposureCompensation | 0 |
ExposureMode | Auto bracket |
ExposureProgram | Aperture-priority AE |
ExposureTime | 1/20 |
FillLight | 0 |
Firmware | 1.0.3 |
Flash | Off, Did not fire |
FlashCompensation | 0 |
FlashFired | False |
FlashFunction | False |
FlashMode | Off |
FlashRedEyeMode | False |
FlashReturn | No return detection |
FNumber | 16.0 |
FocalLength | 18.0 mm |
FocalLength35efl | 18.0 mm (35 mm equivalent: 29.1 mm) |
Format | image/jpeg |
FOV | 63.4 deg |
GreenHue | 0 |
GreenSaturation | 0 |
HasCrop | False |
HasSettings | True |
HighlightRecovery | 14 |
HueAdjustmentAqua | 0 |
HueAdjustmentBlue | 0 |
HueAdjustmentGreen | 0 |
HueAdjustmentMagenta | 0 |
HueAdjustmentOrange | 0 |
HueAdjustmentPurple | 0 |
HueAdjustmentRed | 0 |
HueAdjustmentYellow | 0 |
HyperfocalDistance | 1.09 m |
ICCProfileName | sRGB IEC61966-2.1 |
ImageHeight | 658 |
ImageNumber | 0 |
ImageSize | 1000x658 |
ImageWidth | 1000 |
ISO | 100 |
Lens | 18-50mm |
LensInfo | 18-50mm f/? |
LightValue | 12.3 |
LuminanceAdjustmentAqua | 0 |
LuminanceAdjustmentBlue | 0 |
LuminanceAdjustmentGreen | 0 |
LuminanceAdjustmentMagenta | 0 |
LuminanceAdjustmentOrange | 0 |
LuminanceAdjustmentPurple | 0 |
LuminanceAdjustmentRed | 0 |
LuminanceAdjustmentYellow | 0 |
LuminanceSmoothing | 0 |
Make | Canon |
MaxApertureValue | 2.8 |
Megapixels | 0.658 |
MeteringMode | Multi-segment |
Model | Canon EOS 40D |
ModifyDate (1) | 2008:09:11 23:06:07+02:00 |
ModifyDate | 2008:09:11 23:06:07 |
Orientation | Horizontal (normal) |
ParametricDarks | 0 |
ParametricHighlights | 0 |
ParametricHighlightSplit | 75 |
ParametricLights | 0 |
ParametricMidtoneSplit | 50 |
ParametricShadows | 0 |
ParametricShadowSplit | 25 |
ProfileDescription | sRGB IEC61966-2.1 |
Rating | 0 |
RawFileName | IMG_4845.CR2 |
RedHue | 0 |
RedSaturation | 0 |
Saturation | 0 |
SaturationAdjustmentAqua | 0 |
SaturationAdjustmentBlue | 0 |
SaturationAdjustmentGreen | 0 |
SaturationAdjustmentMagenta | 0 |
SaturationAdjustmentOrange | 0 |
SaturationAdjustmentPurple | 0 |
SaturationAdjustmentRed | 0 |
SaturationAdjustmentYellow | 0 |
ScaleFactor35efl | 1.6 |
SceneCaptureType | Standard |
SerialNumber | 530128994 |
Shadows | 0 |
ShadowTint | 0 |
SharpenDetail | 25 |
SharpenEdgeMasking | 0 |
SharpenRadius | +1.0 |
Sharpness | 25 |
ShutterSpeed | 1/20 |
ShutterSpeedValue | 1/20 |
Software | Adobe Photoshop CS3 Windows |
SplitToningBalance | 0 |
SplitToningHighlightHue | 0 |
SplitToningHighlightSaturation | 0 |
SplitToningShadowHue | 0 |
SplitToningShadowSaturation | 0 |
Tint | 0 |
ToneCurve | 0, 0, 32, 22, 64, 56, 128, 128, 192, 196, 255, 255 |
ToneCurveName | Medium Contrast |
URL_List | |
Version | 4.4.1 |
Vibrance | 0 |
VignetteAmount | 0 |
WhiteBalance (2) | As Shot |
WhiteBalance | Auto |