Felt | Verdi |
AlreadyApplied | True |
Aperture | 9.0 |
ApertureValue | 9.0 |
Artist | Svein Otto Jacobsen |
BitsPerSample | 8 |
BlueHue | 0 |
BlueSaturation | 0 |
Brightness | +40 |
By-line | Svein Otto Jacobsen |
CameraProfile | Adobe Standard |
ChromaticAberrationB | 0 |
ChromaticAberrationR | 0 |
CircleOfConfusion | 0.031 mm |
City | Hillerød |
Clarity | +26 |
ColorComponents | 3 |
ColorNoiseReduction | 25 |
ColorTemperature | 5300 |
Contrast | +37 |
ConvertToGrayscale | False |
Copyright | Copyright: Svein Otto Jacobsen |
CopyrightNotice | Copyright: Svein Otto Jacobsen |
Country | Denmark |
Country-PrimaryLocationName | Denmark |
CountryCode | DK |
CreateDate (1) | 2009:07:16 13:44:17.58+02:00 |
CreateDate | 2009:07:16 13:44:17 |
Creator | Svein Otto Jacobsen |
CreatorTool | Adobe Photoshop Lightroom |
CustomRendered | Normal |
DateTimeDigitized | 2009:07:16 13:44:17.58+02:00 |
DateTimeOriginal (1) | 2009:07:16 13:44:17.58+02:00 |
DateTimeOriginal | 2009:07:16 13:44:17 |
Defringe | 0 |
ExifImageHeight | 3744 |
ExifImageWidth | 5616 |
Exposure | 0.00 |
ExposureCompensation | 0 |
ExposureMode | Auto |
ExposureProgram | Program AE |
ExposureTime | 1/320 |
FillLight | 20 |
Firmware | 1.0.7 |
Flash | Off, Did not fire |
FlashCompensation | 0 |
FlashFired | False |
FlashFunction | False |
FlashMode | Off |
FlashRedEyeMode | False |
FlashReturn | No return detection |
FNumber | 9.0 |
FocalLength | 24.0 mm |
FocalLength35efl | 24.0 mm (35 mm equivalent: 23.4 mm) |
FOV | 75.1 deg |
GreenHue | 0 |
GreenSaturation | 0 |
HasCrop | False |
HasSettings | True |
HierarchicalSubject | Built Structure, Castle, Famous Place, Fountain, Frederiksborg Slot, Frederiksborg castle, Scandinavia, art, building, clods, denmark, fort, old, palace, palace building, palace square, palace yard, royal, sky |
HighlightRecovery | 13 |
HueAdjustmentAqua | 0 |
HueAdjustmentBlue | 0 |
HueAdjustmentGreen | 0 |
HueAdjustmentMagenta | 0 |
HueAdjustmentOrange | 0 |
HueAdjustmentPurple | 0 |
HueAdjustmentRed | 0 |
HueAdjustmentYellow | 0 |
HyperfocalDistance | 2.08 m |
ImageHeight | 3744 |
ImageNumber | 0 |
ImageSize | 5616x3744 |
ImageWidth | 5616 |
ISO | 200 |
Keywords | Built Structure, Castle, Famous Place, Fountain, Frederiksborg Slot, Frederiksborg castle, Scandinavia, art, building, clods, denmark, fort, old, palace, palace building, palace square, palace yard, royal, sky |
Label | Fountain on Frederiksborg castle |
Lens | EF24-70mm f/2.8L USM |
LensInfo | 24-70mm f/? |
LightValue | 13.7 |
Location | Frederiksborg castle |
LuminanceAdjustmentAqua | 0 |
LuminanceAdjustmentBlue | 0 |
LuminanceAdjustmentGreen | 0 |
LuminanceAdjustmentMagenta | 0 |
LuminanceAdjustmentOrange | 0 |
LuminanceAdjustmentPurple | 0 |
LuminanceAdjustmentRed | 0 |
LuminanceAdjustmentYellow | 0 |
LuminanceSmoothing | 24 |
Make | Canon |
MaxApertureValue | 2.8 |
Megapixels | 21.0 |
MeteringMode | Multi-segment |
Model | Canon EOS 5D Mark II |
ModifyDate (1) | 2009:07:19 17:28:28+02:00 |
ModifyDate | 2009:07:19 17:28:28 |
ObjectName | Fountain on Frederiksborg castle |
OwnerName | Svein Otto Jacobsen |
ParametricDarks | 0 |
ParametricHighlights | 0 |
ParametricHighlightSplit | 75 |
ParametricLights | 0 |
ParametricMidtoneSplit | 50 |
ParametricShadows | 0 |
ParametricShadowSplit | 25 |
PostCropVignetteAmount | 0 |
ProfileDescription | sRGB IEC61966-2.1 |
RedHue | 0 |
RedSaturation | 0 |
Rights | Copyright: Svein Otto Jacobsen |
Saturation | 0 |
SaturationAdjustmentAqua | 0 |
SaturationAdjustmentBlue | 0 |
SaturationAdjustmentGreen | 0 |
SaturationAdjustmentMagenta | 0 |
SaturationAdjustmentOrange | 0 |
SaturationAdjustmentPurple | 0 |
SaturationAdjustmentRed | 0 |
SaturationAdjustmentYellow | 0 |
ScaleFactor35efl | 1.0 |
Scene | Fountain |
SceneCaptureType | Standard |
SerialNumber | 830501077 |
Shadows | 4 |
ShadowTint | 0 |
SharpenDetail | 25 |
SharpenEdgeMasking | 0 |
SharpenRadius | +1.0 |
Sharpness | 48 |
ShutterSpeed | 1/320 |
ShutterSpeedValue | 1/320 |
SplitToningBalance | 0 |
SplitToningHighlightHue | 0 |
SplitToningHighlightSaturation | 0 |
SplitToningShadowHue | 0 |
SplitToningShadowSaturation | 0 |
Sub-location | Frederiksborg castle |
Subject | Built Structure, Castle, Famous Place, Fountain, Frederiksborg Slot, Frederiksborg castle, Scandinavia, art, building, clods, denmark, fort, old, palace, palace building, palace square, palace yard, royal, sky |
Tint | +3 |
Title | Fountain on Frederiksborg castle |
ToneCurve | 0, 0, 32, 22, 64, 56, 128, 128, 192, 196, 255, 255 |
ToneCurveName | Medium Contrast |
Version | 5.4 |
Vibrance | 0 |
VignetteAmount | 0 |
WhiteBalance (2) | As Shot |
WhiteBalance | Auto |