Felt | Verdi |
AlreadyApplied | True |
Aperture | 4.0 |
ApertureValue | 4.0 |
Artist | Geir A Granviken |
BitsPerSample | 8 |
BlueHue | 0 |
BlueSaturation | 0 |
Brightness | +50 |
By-line | Geir A Granviken |
CameraProfile | Adobe Standard |
Caption-Abstract | Hoppskole |
CaptionWriter | j |
ChromaticAberrationB | 0 |
ChromaticAberrationR | 0 |
CircleOfConfusion | 0.019 mm |
City | Modum |
Clarity | 0 |
ColorComponents | 3 |
ColorNoiseReduction | 25 |
ColorSpace | Uncalibrated |
ColorTemperature | 4400 |
Contrast | +25 |
ConvertToGrayscale | False |
Copyright | © 2009 Geir A Granviken |
CopyrightNotice | © 2009 Geir A Granviken |
Country | Norway |
Country-PrimaryLocationCode | NO |
Country-PrimaryLocationName | Norway |
CountryCode | NO |
CreateDate (1) | 2009:09:27 11:28:55.3+1:00 |
CreateDate | 2009:09:27 11:28:55 |
Creator | Geir A Granviken |
CreatorTool | Adobe Photoshop Lightroom |
CropAngle | 0 |
CropBottom | 1 |
CropHeight | 565 |
CropLeft | 0 |
CropRight | 0.882698 |
CropTop | 0.117302 |
CropUnit | pixels |
CropWidth | 848 |
CustomRendered | Normal |
DateTimeDigitized | 2009:09:27 11:28:55.3+1:00 |
DateTimeOriginal (1) | 2009:09:27 11:28:55.3+1:00 |
DateTimeOriginal | 2009:09:27 11:28:55 |
Defringe | 0 |
Description | Hoppskole |
ExifImageHeight | 565 |
ExifImageWidth | 848 |
Exposure | 0.00 |
ExposureCompensation | 0 |
ExposureMode | Auto |
ExposureProgram | Aperture-priority AE |
ExposureTime | 1/250 |
FillLight | 0 |
Firmware | 1.0.4 |
Flash | Off, Did not fire |
FlashCompensation | 0 |
FlashFired | False |
FlashFunction | False |
FlashMode | Off |
FlashRedEyeMode | False |
FlashReturn | No return detection |
FNumber | 4.0 |
FocalLength | 24.0 mm |
FocalLength35efl | 24.0 mm (35 mm equivalent: 38.8 mm) |
FOV | 49.8 deg |
GreenHue | 0 |
GreenSaturation | 0 |
HasCrop | True |
HasSettings | True |
Headline | |
HighlightRecovery | 11 |
HueAdjustmentAqua | 0 |
HueAdjustmentBlue | 0 |
HueAdjustmentGreen | 0 |
HueAdjustmentMagenta | 0 |
HueAdjustmentOrange | 0 |
HueAdjustmentPurple | 0 |
HueAdjustmentRed | 0 |
HueAdjustmentYellow | 0 |
HyperfocalDistance | 7.74 m |
ImageDescription | Hoppskole |
ImageHeight | 565 |
ImageNumber | 0 |
ImageSize | 848x565 |
ImageWidth | 848 |
Instructions | |
ISO | 400 |
Lens | EF24-105mm f/4L IS USM |
LensInfo | 24-105mm f/? |
LightValue | 10.0 |
Location | Vikersund Hoppsenter |
LuminanceAdjustmentAqua | 0 |
LuminanceAdjustmentBlue | 0 |
LuminanceAdjustmentGreen | 0 |
LuminanceAdjustmentMagenta | 0 |
LuminanceAdjustmentOrange | 0 |
LuminanceAdjustmentPurple | 0 |
LuminanceAdjustmentRed | 0 |
LuminanceAdjustmentYellow | 0 |
LuminanceSmoothing | 0 |
Make | Canon |
MaxApertureValue | 4.0 |
Megapixels | 0.479 |
MeteringMode | Multi-segment |
Model | Canon EOS 450D |
ModifyDate (1) | 2009:10:17 14:31:13.0+1:00 |
ModifyDate | 2009:10:17 14:31:13 |
ObjectName | |
OwnerName | Geir A Granviken |
ParametricDarks | -5 |
ParametricHighlights | 0 |
ParametricHighlightSplit | 75 |
ParametricLights | +5 |
ParametricMidtoneSplit | 50 |
ParametricShadows | 0 |
ParametricShadowSplit | 25 |
PostCropVignetteAmount | 0 |
ProfileDescription | sRGB IEC61966-2.1 |
Province-State | Buskerud |
RedHue | 0 |
RedSaturation | 0 |
Rights | © 2009 Geir A Granviken |
Saturation | 0 |
SaturationAdjustmentAqua | 0 |
SaturationAdjustmentBlue | 0 |
SaturationAdjustmentGreen | 0 |
SaturationAdjustmentMagenta | 0 |
SaturationAdjustmentOrange | 0 |
SaturationAdjustmentPurple | 0 |
SaturationAdjustmentRed | -7 |
SaturationAdjustmentYellow | 0 |
ScaleFactor35efl | 1.6 |
SceneCaptureType | Standard |
SerialNumber | 680266845 |
Shadows | 15 |
ShadowTint | 0 |
SharpenDetail | 25 |
SharpenEdgeMasking | 0 |
SharpenRadius | +1.0 |
Sharpness | 35 |
ShutterSpeed | 1/250 |
ShutterSpeedValue | 1/250 |
Software | Adobe Photoshop Lightroom |
SpecialInstructions | |
SplitToningBalance | 0 |
SplitToningHighlightHue | 0 |
SplitToningHighlightSaturation | 0 |
SplitToningShadowHue | 0 |
SplitToningShadowSaturation | 0 |
State | Buskerud |
Sub-location | Vikersund Hoppsenter |
Tint | +9 |
Title | |
ToneCurve | 0, 0, 32, 22, 64, 56, 128, 128, 192, 196, 255, 255 |
ToneCurveName | Medium Contrast |
Urgency | Unknown () |
UserComment | |
Version | 5.5 |
Vibrance | +15 |
VignetteAmount | 0 |
WhiteBalance (2) | Custom |
WhiteBalance | Auto |
Writer-Editor | j |