Felt | Verdi |
AlreadyApplied | True |
Aperture | 8.0 |
ApertureValue | 8.0 |
Artist | unknown |
BitsPerSample | 8 |
BlueHue | 0 |
BlueSaturation | 0 |
Brightness | +150 |
By-line | unknown |
CameraProfile | ACR 3.4 |
ChromaticAberrationB | 0 |
ChromaticAberrationR | 0 |
CircleOfConfusion | 0.019 mm |
ColorComponents | 3 |
ColorMode | RGB |
ColorNoiseReduction | 25 |
ColorSpace (1) | Unknown (-1) |
ColorSpace | Uncalibrated |
ColorTemperature | 5500 |
Contrast | +25 |
ConvertToGrayscale | False |
CopyrightFlag | False |
CreateDate (1) | 2009:12:01 17:36:37+01:00 |
CreateDate | 2009:11:24 14:50:21 |
Creator | unknown |
CreatorTool | Adobe Photoshop CS3 Macintosh |
CropAngle | 0 |
CropBottom | 1 |
CropLeft | 0.202148 |
CropRight | 0.946289 |
CropTop | 0.052709 |
CustomRendered | Normal |
DateTimeDigitized | 2009:11:24 14:50:21+01:00 |
DateTimeOriginal (1) | 2009:11:24 14:50:21+01:00 |
DateTimeOriginal | 2009:11:24 14:50:21 |
ExifImageHeight | 944 |
ExifImageWidth | 1000 |
Exposure | +1.20 |
ExposureCompensation | 0 |
ExposureMode | Auto |
ExposureProgram | Program AE |
ExposureTime | 1/500 |
FillLight | 0 |
Firmware | 1.0.4 |
Flash | Off, Did not fire |
FlashCompensation | 0 |
FlashFired | False |
FlashFunction | False |
FlashMode | Off |
FlashRedEyeMode | False |
FlashReturn | No return detection |
FNumber | 8.0 |
FocalLength | 105.0 mm |
FocalLength35efl | 105.0 mm (35 mm equivalent: 168.2 mm) |
Format | image/jpeg |
FOV | 12.2 deg |
GreenHue | 0 |
GreenSaturation | 0 |
HasCrop | True |
HasSettings | True |
HighlightRecovery | 0 |
HueAdjustmentAqua | 0 |
HueAdjustmentBlue | 0 |
HueAdjustmentGreen | 0 |
HueAdjustmentMagenta | 0 |
HueAdjustmentOrange | 0 |
HueAdjustmentPurple | 0 |
HueAdjustmentRed | 0 |
HueAdjustmentYellow | 0 |
HyperfocalDistance | 73.46 m |
ICCProfileName | Adobe RGB (1998) |
ImageHeight | 944 |
ImageNumber | 224 |
ImageSize | 1000x944 |
ImageWidth | 1000 |
ISO | 200 |
Lens | EF75-300mm f/4-5.6 |
LensInfo | 75-300mm f/? |
LightValue | 14.0 |
LuminanceAdjustmentAqua | 0 |
LuminanceAdjustmentBlue | 0 |
LuminanceAdjustmentGreen | 0 |
LuminanceAdjustmentMagenta | 0 |
LuminanceAdjustmentOrange | 0 |
LuminanceAdjustmentPurple | 0 |
LuminanceAdjustmentRed | 0 |
LuminanceAdjustmentYellow | 0 |
LuminanceSmoothing | 0 |
Make | Canon |
MaxApertureValue | 4.0 |
Megapixels | 0.944 |
MeteringMode | Multi-segment |
Model | Canon EOS 30D |
ModifyDate (1) | 2009:12:01 17:36:37+01:00 |
ModifyDate | 2009:12:01 17:36:37 |
Orientation | Horizontal (normal) |
OwnerName | unknown |
ParametricDarks | -11 |
ParametricHighlights | +37 |
ParametricHighlightSplit | 75 |
ParametricLights | -23 |
ParametricMidtoneSplit | 50 |
ParametricShadows | -8 |
ParametricShadowSplit | 25 |
ProfileDescription | Adobe RGB (1998) |
Rating | 0 |
RawFileName | IMG_9886.CR2 |
RedHue | 0 |
RedSaturation | 0 |
Saturation | 0 |
SaturationAdjustmentAqua | 0 |
SaturationAdjustmentBlue | 0 |
SaturationAdjustmentGreen | 0 |
SaturationAdjustmentMagenta | 0 |
SaturationAdjustmentOrange | 0 |
SaturationAdjustmentPurple | 0 |
SaturationAdjustmentRed | 0 |
SaturationAdjustmentYellow | 0 |
ScaleFactor35efl | 1.6 |
SceneCaptureType | Standard |
SerialNumber | 420308187 |
Shadows | 5 |
ShadowTint | 0 |
Sharpness | 68 |
ShutterSpeed | 1/500 |
ShutterSpeedValue | 1/500 |
SidecarForExtension | CR2 |
Software | Adobe Photoshop CS3 Macintosh |
SplitToningBalance | 0 |
SplitToningHighlightHue | 0 |
SplitToningHighlightSaturation | 0 |
SplitToningShadowHue | 0 |
SplitToningShadowSaturation | 0 |
TimeZoneOffset | 1 1 |
Tint | +5 |
ToneCurve | 0, 0, 32, 22, 64, 56, 128, 128, 192, 196, 255, 255 |
ToneCurveName | Medium Contrast |
URL_List | |
Version | 4.0 |
Vibrance | 0 |
VignetteAmount | 0 |
WhiteBalance (2) | As Shot |
WhiteBalance | Auto |