Felt | Verdi |
AlreadyApplied | True |
Aperture | 8.0 |
ApertureValue | 8.0 |
BitsPerSample | 8 |
BlueHue | 0 |
BlueSaturation | 0 |
Brightness | +51 |
CameraProfile | Adobe Standard |
ChromaticAberrationB | 0 |
ChromaticAberrationR | 0 |
Clarity | +100 |
ColorComponents | 1 |
ColorNoiseReduction | 25 |
ColorTemperature | 5100 |
Contrast | +100 |
ConvertToGrayscale | True |
CreateDate (1) | 2010:01:29 12:42:15+01:00 |
CreateDate | 2010:01:29 12:42:15 |
CreatorTool | Adobe Photoshop Lightroom |
CropAngle | 0 |
CropBottom | 1 |
CropHeight | 2232 |
CropLeft | 0.229075 |
CropRight | 1 |
CropTop | 0 |
CropUnit | pixels |
CropWidth | 3059 |
DateTimeDigitized | 2010:01:29 12:42:15+01:00 |
DateTimeOriginal (1) | 2010:01:29 12:42:15+01:00 |
DateTimeOriginal | 2010:01:29 12:42:15 |
Defringe | 0 |
ExifImageHeight | 2232 |
ExifImageWidth | 3059 |
Exposure | 0.00 |
ExposureCompensation | 0 |
ExposureProgram | Aperture-priority AE |
ExposureTime | 1/160 |
FillLight | 0 |
Flash | Off, Did not fire |
FlashFired | False |
FlashFunction | False |
FlashMode | Off |
FlashRedEyeMode | False |
FlashReturn | No return detection |
FNumber | 8.0 |
FocalLength | 5.1 mm |
FocalLength35efl | 5.1 mm |
GradientBasedCorrActive | true |
GradientBasedCorrAmount | 1.000000 |
GradientBasedCorrBrightness | 0.000000 |
GradientBasedCorrClarity (2) | 1.000000 |
GradientBasedCorrClarity | 0.000000 |
GradientBasedCorrContrast (1) | 0.000000 |
GradientBasedCorrContrast | 1.000000 |
GradientBasedCorrExposure (1) | -0.210000 |
GradientBasedCorrExposure | 0.000000 |
GradientBasedCorrHue | 240.000000 |
GradientBasedCorrMaskFullX (1) | 0.426366 |
GradientBasedCorrMaskFullX (2) | 0.387856 |
GradientBasedCorrMaskFullX | 0.484740 |
GradientBasedCorrMaskFullY (1) | -0.111074 |
GradientBasedCorrMaskFullY (2) | -0.020815 |
GradientBasedCorrMaskFullY | 0.524364 |
GradientBasedCorrMaskValue | 1.000000 |
GradientBasedCorrMaskWhat | Mask/Gradient |
GradientBasedCorrMaskZeroX (1) | 0.531716 |
GradientBasedCorrMaskZeroX (2) | 0.508053 |
GradientBasedCorrMaskZeroX | 0.356444 |
GradientBasedCorrMaskZeroY (1) | 0.444690 |
GradientBasedCorrMaskZeroY (2) | 0.442478 |
GradientBasedCorrMaskZeroY | -0.014620 |
GradientBasedCorrSaturation | 0.000000 |
GradientBasedCorrSharpness | 0.000000 |
GradientBasedCorrWhat | Correction |
GrayMixerAqua | -16 |
GrayMixerBlue | -6 |
GrayMixerGreen | -28 |
GrayMixerMagenta | +5 |
GrayMixerOrange | -21 |
GrayMixerPurple | +20 |
GrayMixerRed | -11 |
GrayMixerYellow | -25 |
GreenHue | 0 |
GreenSaturation | 0 |
HasCrop | True |
HasSettings | True |
HighlightRecovery | 0 |
ImageHeight | 2232 |
ImageSize | 3059x2232 |
ImageWidth | 3059 |
ISO | 80 |
LightValue | 13.6 |
LuminanceSmoothing | 0 |
Make | LEICA |
MaxApertureValue | 2.0 |
Megapixels | 6.8 |
MeteringMode | Multi-segment |
Model | D-LUX 4 |
ModifyDate (1) | 2010:02:03 14:27:16+01:00 |
ModifyDate | 2010:02:03 14:27:16 |
ObjectName | Open layers |
ParametricDarks | -48 |
ParametricHighlights | +84 |
ParametricHighlightSplit | 75 |
ParametricLights | +29 |
ParametricMidtoneSplit | 50 |
ParametricShadows | -58 |
ParametricShadowSplit | 25 |
PostCropVignetteAmount | 0 |
ProfileDescription | sRGB IEC61966-2.1 |
RedHue | 0 |
RedSaturation | 0 |
Shadows | 5 |
ShadowTint | 0 |
SharpenDetail | 25 |
SharpenEdgeMasking | 0 |
SharpenRadius | +1.0 |
Sharpness | 25 |
ShutterSpeed | 1/160 |
ShutterSpeedValue | 1/160 |
SplitToningBalance | 0 |
SplitToningHighlightHue | 0 |
SplitToningHighlightSaturation | 0 |
SplitToningShadowHue | 0 |
SplitToningShadowSaturation | 0 |
Tint | -12 |
Title | Open layers |
ToneCurve | 0, 0, 32, 22, 64, 56, 128, 128, 192, 196, 255, 255 |
ToneCurveName | Medium Contrast |
Version | 5.5 |
VignetteAmount | 0 |
WhiteBalance | As Shot |