Felt | Verdi |
AlreadyApplied | True |
Aperture | 8.0 |
ApertureValue | 8.0 |
BitsPerSample | 8 |
BlueHue | 0 |
BlueSaturation | 0 |
Brightness | +41 |
CameraProfile | Adobe Standard |
CFAPattern | [Green,Blue][Red,Green] |
ChromaticAberrationB | 0 |
ChromaticAberrationR | 0 |
CircleOfConfusion | 0.020 mm |
Clarity | +19 |
ColorComponents | 3 |
ColorMode | RGB |
ColorNoiseReduction | 25 |
ColorSpace | Uncalibrated |
ColorTemperature | 4800 |
Contrast (2) | +16 |
Contrast | Normal |
ConvertToGrayscale | False |
CreateDate (1) | 2010:05:12 11:43:54.00+02:00 |
CreateDate | 2010:05:12 11:43:54 |
CreatorTool | Ver.1.00 |
CustomRendered | Normal |
DateTimeDigitized | 2010:05:12 11:43:54.00+02:00 |
DateTimeOriginal (1) | 2010:05:12 11:43:54.00+02:00 |
DateTimeOriginal | 2010:05:12 11:43:54 |
Defringe | 0 |
DigitalZoomRatio | 1 |
DOF | 0.05 m (6.65 - 6.71 m) |
ExifImageHeight | 680 |
ExifImageWidth | 1024 |
Exposure | -0.60 |
ExposureCompensation | +2/3 |
ExposureMode | Manual |
ExposureProgram | Manual |
ExposureTime | 1/1250 |
FillLight | 21 |
Flash | No Flash |
FlashFired | False |
FlashFunction | False |
FlashMode | Unknown |
FlashRedEyeMode | False |
FlashReturn | No return detection |
FNumber | 8.0 |
FocalLength | 500.0 mm |
FocalLength35efl | 500.0 mm (35 mm equivalent: 750.0 mm) |
FocalLengthIn35mmFormat | 750 mm |
Format | image/jpeg |
FOV | 2.7 deg |
GainControl | None |
GreenHue | 0 |
GreenSaturation | 0 |
HasCrop | False |
HasSettings | True |
HighlightRecovery | 33 |
HueAdjustmentAqua | 0 |
HueAdjustmentBlue | 0 |
HueAdjustmentGreen | 0 |
HueAdjustmentMagenta | 0 |
HueAdjustmentOrange | 0 |
HueAdjustmentPurple | 0 |
HueAdjustmentRed | 0 |
HueAdjustmentYellow | 0 |
HyperfocalDistance | 1560.09 m |
ICCProfileName | Adobe RGB (1998) |
ImageHeight | 680 |
ImageNumber | 4575 |
ImageSize | 1024x680 |
ImageWidth | 1024 |
ISO | 200 |
Lens | 150.0-500.0 mm f/5.0-6.3 |
LensID (1) | 206 |
LensID | Sigma 150-500mm F5-6.3 DG OS APO HSM |
LensInfo | 150-500mm f/5-6.3 |
LightSource | Unknown |
LightValue | 15.3 |
LuminanceAdjustmentAqua | 0 |
LuminanceAdjustmentBlue | 0 |
LuminanceAdjustmentGreen | 0 |
LuminanceAdjustmentMagenta | 0 |
LuminanceAdjustmentOrange | 0 |
LuminanceAdjustmentPurple | 0 |
LuminanceAdjustmentRed | 0 |
LuminanceAdjustmentYellow | 0 |
LuminanceSmoothing | 0 |
Make | NIKON CORPORATION |
MaxApertureValue | 6.3 |
Megapixels | 0.696 |
MeteringMode | Multi-segment |
Model | NIKON D90 |
ModifyDate (1) | 2010:05:12 16:11:08+02:00 |
ModifyDate | 2010:05:12 16:11:08 |
Orientation | Horizontal (normal) |
ParametricDarks | 0 |
ParametricHighlights | 0 |
ParametricHighlightSplit | 75 |
ParametricLights | 0 |
ParametricMidtoneSplit | 50 |
ParametricShadows | 0 |
ParametricShadowSplit | 25 |
PostCropVignetteAmount | 0 |
ProfileDescription | Adobe RGB (1998) |
Rating | 0 |
RawFileName | DSC_0081.NEF |
RedHue | 0 |
RedSaturation | 0 |
Saturation (2) | 0 |
Saturation | Normal |
SaturationAdjustmentAqua | 0 |
SaturationAdjustmentBlue | 0 |
SaturationAdjustmentGreen | 0 |
SaturationAdjustmentMagenta | 0 |
SaturationAdjustmentOrange | 0 |
SaturationAdjustmentPurple | 0 |
SaturationAdjustmentRed | 0 |
SaturationAdjustmentYellow | 0 |
ScaleFactor35efl | 1.5 |
SceneCaptureType | Standard |
SceneType | Directly photographed |
SensingMethod | One-chip color area |
SerialNumber | 6202138 |
Shadows | 28 |
ShadowTint | 0 |
SharpenDetail | 25 |
SharpenEdgeMasking | 0 |
SharpenRadius | +1.0 |
Sharpness (2) | 25 |
Sharpness | Normal |
ShutterSpeed | 1/1250 |
ShutterSpeedValue | 1/1250 |
Software | Adobe Photoshop CS4 Windows |
SplitToningBalance | 0 |
SplitToningHighlightHue | 0 |
SplitToningHighlightSaturation | 0 |
SplitToningShadowHue | 0 |
SplitToningShadowSaturation | 0 |
SubjectDistance | 6.68 m |
SubjectDistanceRange | Unknown |
Tint | -3 |
ToneCurve | 0, 0, 32, 22, 64, 56, 128, 128, 192, 196, 255, 255 |
ToneCurveName | Medium Contrast |
URL_List | |
Version | 5.6 |
Vibrance | -3 |
VignetteAmount | 0 |
WhiteBalance (2) | Custom |
WhiteBalance | Auto |