Felt | Verdi |
AlreadyApplied | True |
Aperture | 9.0 |
ApertureValue | 9.0 |
ApproximateFocusDistance | 2.86 |
Artist | Morten Lindberg |
BitsPerSample | 8 |
BlueHue | 0 |
BlueSaturation | 0 |
Brightness | +50 |
By-line | Morten Lindberg |
CameraProfile | Adobe Standard |
ChromaticAberrationB | 0 |
ChromaticAberrationR | 0 |
CircleOfConfusion | 0.031 mm |
Clarity | +20 |
ColorComponents | 3 |
ColorNoiseReduction | 25 |
ColorNoiseReductionDetail | 50 |
ColorTemperature | 3724 |
Contrast | +25 |
ConvertToGrayscale | False |
Copyright | Morten Lindberg |
CopyrightFlag | True |
CopyrightNotice | Morten Lindberg |
CreateDate (1) | 2010:10:28 13:49:08.19+02:00 |
CreateDate | 2010:10:28 13:49:08 |
Creator | Morten Lindberg |
CreatorAddress | Box 56 Bogerud |
CreatorCity | Oslo |
CreatorCountry | Norway |
CreatorPostalCode | 0621 |
CreatorTool | Adobe Photoshop Lightroom |
CreatorWorkEmail | morten@lindberg.no |
CreatorWorkTelephone | +47 91538 155 |
CreatorWorkURL | photo.lindberg.no |
Credit | Photo: Morten Lindberg |
CustomRendered | Normal |
DateTimeDigitized | 2010:10:28 13:49:08.19+02:00 |
DateTimeOriginal (1) | 2010:10:28 13:49:08.19+02:00 |
DateTimeOriginal | 2010:10:28 13:49:08 |
Defringe | 0 |
DigitalSourceType | http://cv.iptc.org/newscodes/digitalsourcetype/digitalCapture |
DOF | 0.36 m (2.69 - 3.05 m) |
ExifImageHeight | 1024 |
ExifImageWidth | 1536 |
Exposure | +0.87 |
ExposureCompensation | 0 |
ExposureMode | Manual |
ExposureProgram | Manual |
ExposureTime | 1/640 |
FillLight | 0 |
Firmware | 2.0.8 |
Flash | On, Fired |
FlashCompensation | 0 |
FlashFired | True |
FlashFunction | False |
FlashMode | On |
FlashRedEyeMode | False |
FlashReturn | No return detection |
FNumber | 9.0 |
FocalLength | 110.0 mm |
FocalLength35efl | 110.0 mm (35 mm equivalent: 107.4 mm) |
FOV | 19.0 deg |
GrainAmount | 0 |
GreenHue | 0 |
GreenSaturation | 0 |
HasCrop | False |
HasSettings | True |
HighlightRecovery | 0 |
HueAdjustmentAqua | 0 |
HueAdjustmentBlue | 0 |
HueAdjustmentGreen | 0 |
HueAdjustmentMagenta | 0 |
HueAdjustmentOrange | 0 |
HueAdjustmentPurple | 0 |
HueAdjustmentRed | 0 |
HueAdjustmentYellow | 0 |
HyperfocalDistance | 43.67 m |
ImageHeight | 1024 |
ImageNumber | 0 |
ImageSize | 1536x1024 |
ImageWidth | 1536 |
ISO | 200 |
Keywords | Annar Fiollesø, Annar Follesø, Norway, Oslo, fiolin, violin |
Label | Red |
Lens | EF70-200mm f/2.8L IS II USM |
LensID (1) | 251 |
LensID | Canon EF 70-200mm f/2.8L IS II USM |
LensInfo | 70-200mm f/? |
LensManualDistortionAmount | 0 |
LensModel | EF70-200mm f/2.8L IS II USM |
LensProfileChromaticAberrationScale | 100 |
LensProfileDistortionScale | 100 |
LensProfileEnable | 1 |
LensProfileFilename | Canon EOS 5D Mark II (Canon EF 70-200mm f2.8L IS II USM) - RAW.lcp |
LensProfileName | Adobe (Canon EF 70-200mm f/2.8 L IS II USM) |
LensProfileSetup | LensDefaults |
LensProfileVignettingScale | 100 |
LightValue | 14.7 |
LuminanceAdjustmentAqua | 0 |
LuminanceAdjustmentBlue | 0 |
LuminanceAdjustmentGreen | 0 |
LuminanceAdjustmentMagenta | 0 |
LuminanceAdjustmentOrange | 0 |
LuminanceAdjustmentPurple | 0 |
LuminanceAdjustmentRed | 0 |
LuminanceAdjustmentYellow | 0 |
LuminanceNoiseReductionContrast | 0 |
LuminanceNoiseReductionDetail | 50 |
LuminanceSmoothing | 18 |
Make | Canon |
Marked | True |
MaxApertureValue | 2.8 |
Megapixels | 1.6 |
MeteringMode | Multi-segment |
Model | Canon EOS 5D Mark II |
ModifyDate (1) | 2010:11:22 20:02:49+01:00 |
ModifyDate | 2010:11:22 20:02:49 |
ObjectName | Annar Follesø |
OwnerName | Morten Lindberg |
ParametricDarks | 0 |
ParametricHighlights | 0 |
ParametricHighlightSplit | 75 |
ParametricLights | 0 |
ParametricMidtoneSplit | 50 |
ParametricShadows | 0 |
ParametricShadowSplit | 25 |
PersonInImage | Annar Follesø |
PerspectiveHorizontal | 0 |
PerspectiveRotate | 0.0 |
PerspectiveScale | 100 |
PerspectiveVertical | 0 |
PostCropVignetteAmount | 0 |
ProcessVersion | 5.7 |
ProfileDescription | sRGB IEC61966-2.1 |
RedHue | 0 |
RedSaturation | 0 |
Rights | Morten Lindberg |
Saturation | 0 |
SaturationAdjustmentAqua | 0 |
SaturationAdjustmentBlue | 0 |
SaturationAdjustmentGreen | 0 |
SaturationAdjustmentMagenta | 0 |
SaturationAdjustmentOrange | 0 |
SaturationAdjustmentPurple | 0 |
SaturationAdjustmentRed | 0 |
SaturationAdjustmentYellow | 0 |
ScaleFactor35efl | 1.0 |
SceneCaptureType | Standard |
SensitivityType | Unknown |
SerialNumber | 1721002101 |
Shadows | 6 |
ShadowTint | 0 |
SharpenDetail | 25 |
SharpenEdgeMasking | 0 |
SharpenRadius | +1.0 |
Sharpness | 25 |
ShutterSpeed | 1/640 |
ShutterSpeedValue | 1/640 |
SplitToningBalance | 0 |
SplitToningHighlightHue | 0 |
SplitToningHighlightSaturation | 0 |
SplitToningShadowHue | 0 |
SplitToningShadowSaturation | 0 |
Subject | Annar Fiollesø, Annar Follesø, Norway, Oslo, fiolin, violin |
SubjectDistance | 2.86 m |
Tint | +2 |
Title | Annar Follesø |
ToneCurve | 0, 0, 32, 22, 64, 56, 128, 128, 192, 196, 255, 255 |
ToneCurveName | Medium Contrast |
URL | photo.lindberg.no |
Version | 6.2 |
Vibrance | +10 |
VignetteAmount | 0 |
WebStatement | photo.lindberg.no |
WhiteBalance (2) | Custom |
WhiteBalance | Auto |