Felt | Verdi |
AlreadyApplied | True |
Aperture | 4.0 |
ApertureValue | 4.0 |
BitsPerSample (1) | 8, 8, 8 |
BitsPerSample | 8 |
BlueHue | 0 |
BlueSaturation | 0 |
Brightness | +50 |
CameraProfile | ACR 4.4 |
ChromaticAberrationB | 0 |
ChromaticAberrationR | 0 |
CircleOfConfusion | 0.019 mm |
Clarity | 0 |
ColorComponents | 3 |
ColorMode | RGB |
ColorNoiseReduction | 25 |
ColorSpace | Uncalibrated |
ColorTemperature | 6200 |
Contrast | +25 |
ConvertToGrayscale | False |
CreateDate (1) | 2010:12:25 06:00:27.16+01:00 |
CreateDate | 2010:12:25 06:00:27 |
CreatorTool | Adobe Photoshop CS4 Windows |
CustomRendered | Normal |
DateTimeDigitized | 2010:12:25 06:00:27.16+01:00 |
DateTimeOriginal (1) | 2010:12:25 06:00:27.16+01:00 |
DateTimeOriginal | 2010:12:25 06:00:27 |
Defringe | 0 |
ExifImageHeight | 2430 |
ExifImageWidth | 1620 |
Exposure | 0.00 |
ExposureCompensation | -1/3 |
ExposureMode | Auto |
ExposureProgram | Aperture-priority AE |
ExposureTime | 1/1600 |
FillLight | 0 |
Firmware | 1.1.1 |
Flash | Off, Did not fire |
FlashCompensation | 0 |
FlashFired | False |
FlashFunction | False |
FlashMode | Off |
FlashRedEyeMode | False |
FlashReturn | No return detection |
FNumber | 4.0 |
FocalLength | 70.0 mm |
FocalLength35efl | 70.0 mm (35 mm equivalent: 113.3 mm) |
Format | image/jpeg |
FOV | 18.1 deg |
GreenHue | 0 |
GreenSaturation | 0 |
HasCrop | False |
HasSettings | True |
HighlightRecovery | 47 |
HueAdjustmentAqua | 0 |
HueAdjustmentBlue | 0 |
HueAdjustmentGreen | 0 |
HueAdjustmentMagenta | 0 |
HueAdjustmentOrange | 0 |
HueAdjustmentPurple | 0 |
HueAdjustmentRed | 0 |
HueAdjustmentYellow | 0 |
HyperfocalDistance | 66.00 m |
ICCProfileName | Adobe RGB (1998) |
ImageHeight | 2430 |
ImageNumber | 0 |
ImageSize | 1620x2430 |
ImageWidth | 1620 |
ISO | 800 |
Lens | EF70-300mm f/4-5.6 IS USM |
LensInfo | 70-300mm f/? |
LightValue | 11.6 |
LuminanceAdjustmentAqua | 0 |
LuminanceAdjustmentBlue | 0 |
LuminanceAdjustmentGreen | 0 |
LuminanceAdjustmentMagenta | 0 |
LuminanceAdjustmentOrange | 0 |
LuminanceAdjustmentPurple | 0 |
LuminanceAdjustmentRed | 0 |
LuminanceAdjustmentYellow | 0 |
LuminanceSmoothing | 0 |
Make | Canon |
MaxApertureValue | 4.0 |
Megapixels | 3.9 |
MeteringMode | Multi-segment |
Model | Canon EOS 40D |
ModifyDate (1) | 2010:12:26 17:39:35+01:00 |
ModifyDate | 2010:12:26 17:39:35 |
Orientation | Horizontal (normal) |
ParametricDarks | 0 |
ParametricHighlights | 0 |
ParametricHighlightSplit | 75 |
ParametricLights | 0 |
ParametricMidtoneSplit | 50 |
ParametricShadows | 0 |
ParametricShadowSplit | 25 |
PhotometricInterpretation | RGB |
PostCropVignetteAmount | 0 |
ProfileDescription | Adobe RGB (1998) |
Rating | 5 |
RawFileName | _MG_2966.CR2 |
RedHue | 0 |
RedSaturation | 0 |
SamplesPerPixel | 3 |
Saturation | 0 |
SaturationAdjustmentAqua | 0 |
SaturationAdjustmentBlue | 0 |
SaturationAdjustmentGreen | 0 |
SaturationAdjustmentMagenta | 0 |
SaturationAdjustmentOrange | 0 |
SaturationAdjustmentPurple | 0 |
SaturationAdjustmentRed | 0 |
SaturationAdjustmentYellow | 0 |
ScaleFactor35efl | 1.6 |
SceneCaptureType | Standard |
SerialNumber | 1030523591 |
Shadows | 5 |
ShadowTint | 0 |
SharpenDetail | 25 |
SharpenEdgeMasking | 0 |
SharpenRadius | +1.0 |
Sharpness | 25 |
ShutterSpeed | 1/1600 |
ShutterSpeedValue | 1/1600 |
SidecarForExtension | CR2 |
Software | Adobe Photoshop CS4 Windows |
SplitToningBalance | 0 |
SplitToningHighlightHue | 0 |
SplitToningHighlightSaturation | 0 |
SplitToningShadowHue | 0 |
SplitToningShadowSaturation | 0 |
Tint | -2 |
ToneCurve | 0, 0, 32, 22, 64, 56, 128, 128, 192, 196, 255, 255 |
ToneCurveName | Medium Contrast |
URL_List | |
Version | 5.0 |
Vibrance | 0 |
VignetteAmount | 0 |
WhiteBalance (2) | Custom |
WhiteBalance | Manual |