Felt | Verdi |
AlreadyApplied | True |
Aperture | 6.3 |
ApertureValue | 6.3 |
BitsPerSample | 8 |
BlueHue | 0 |
BlueSaturation | 0 |
Brightness | +43 |
CameraProfile | Adobe Standard |
ChromaticAberrationB | 0 |
ChromaticAberrationR | 0 |
CircleOfConfusion | 0.019 mm |
Clarity | -31 |
ColorComponents | 3 |
ColorMode | RGB |
ColorNoiseReduction | 97 |
ColorSpace | Uncalibrated |
ColorTemperature | 5800 |
Contrast | +25 |
ConvertToGrayscale | False |
CreateDate (1) | 2011:05:25 20:14:09.68+02:00 |
CreateDate | 2011:05:25 20:14:09 |
CropAngle | 0 |
CropBottom | 0.913043 |
CropLeft | 0.100088 |
CropRight | 0.791045 |
CropTop | 0.113307 |
CustomRendered | Normal |
DateTimeDigitized | 2011:05:25 20:14:09.68+02:00 |
DateTimeOriginal (1) | 2011:05:25 20:14:09.68+02:00 |
DateTimeOriginal | 2011:05:25 20:14:09 |
Defringe | 0 |
DOF | inf (1164.64 m - inf) |
ExifImageHeight | 2534 |
ExifImageWidth | 3283 |
Exposure | -0.50 |
ExposureCompensation | 0 |
ExposureMode | Manual |
ExposureProgram | Manual |
ExposureTime | 1/400 |
FillLight | 0 |
Firmware | 1.0.7 |
Flash | Off, Did not fire |
FlashCompensation | 0 |
FlashFired | False |
FlashFunction | False |
FlashMode | Off |
FlashRedEyeMode | False |
FlashReturn | No return detection |
FNumber | 6.3 |
FocalLength | 373.0 mm |
FocalLength35efl | 373.0 mm (35 mm equivalent: 591.0 mm) |
Format | image/jpeg |
FOV | 3.5 deg |
GrainAmount | 0 |
GreenHue | 0 |
GreenSaturation | 0 |
HasCrop | True |
HasSettings | True |
HighlightRecovery | 0 |
HueAdjustmentAqua | 0 |
HueAdjustmentBlue | 0 |
HueAdjustmentGreen | 0 |
HueAdjustmentMagenta | 0 |
HueAdjustmentOrange | 0 |
HueAdjustmentPurple | 0 |
HueAdjustmentRed | 0 |
HueAdjustmentYellow | 0 |
HyperfocalDistance | 1164.65 m |
ICCProfileName | Adobe RGB (1998) |
ImageHeight | 2534 |
ImageNumber | 0 |
ImageSize | 3283x2534 |
ImageWidth | 3283 |
ISO | 200 |
Lens | 50-500mm |
LensID (1) | 174 |
LensID | Sigma 50-500mm f/4.5-6.3 APO DG OS HSM |
LensInfo | 50-500mm f/? |
LightValue | 13.0 |
LuminanceAdjustmentAqua | 0 |
LuminanceAdjustmentBlue | 0 |
LuminanceAdjustmentGreen | 0 |
LuminanceAdjustmentMagenta | 0 |
LuminanceAdjustmentOrange | 0 |
LuminanceAdjustmentPurple | 0 |
LuminanceAdjustmentRed | 0 |
LuminanceAdjustmentYellow | 0 |
LuminanceSmoothing | 99 |
Make | Canon |
MaxApertureValue | 6.2 |
Megapixels | 8.3 |
MeteringMode | Multi-segment |
Model | Canon EOS 50D |
ModifyDate (1) | 2011:05:25 21:17:21+02:00 |
ModifyDate | 2011:05:25 21:17:21 |
Orientation | Horizontal (normal) |
ParametricDarks | -11 |
ParametricHighlights | +14 |
ParametricHighlightSplit | 75 |
ParametricLights | -23 |
ParametricMidtoneSplit | 50 |
ParametricShadows | +2 |
ParametricShadowSplit | 25 |
PostCropVignetteAmount | -45 |
PostCropVignetteFeather | 69 |
PostCropVignetteMidpoint | 50 |
PostCropVignetteRoundness | 0 |
PostCropVignetteStyle | 3 |
ProcessVersion | 5.0 |
ProfileDescription | Adobe RGB (1998) |
Rating | 0 |
RawFileName | _MG_6091.CR2 |
RedHue | 0 |
RedSaturation | 0 |
Saturation | 0 |
SaturationAdjustmentAqua | 0 |
SaturationAdjustmentBlue | 0 |
SaturationAdjustmentGreen | 0 |
SaturationAdjustmentMagenta | 0 |
SaturationAdjustmentOrange | 0 |
SaturationAdjustmentPurple | 0 |
SaturationAdjustmentRed | 0 |
SaturationAdjustmentYellow | 0 |
ScaleFactor35efl | 1.6 |
SceneCaptureType | Standard |
SerialNumber | 1330717308 |
Shadows | 5 |
ShadowTint | 0 |
SharpenDetail | 53 |
SharpenEdgeMasking | 0 |
SharpenRadius | +1.0 |
Sharpness | 64 |
ShutterSpeed | 1/400 |
ShutterSpeedValue | 1/400 |
SidecarForExtension | CR2 |
Software | Adobe Photoshop CS4 Macintosh |
SplitToningBalance | 0 |
SplitToningHighlightHue | 0 |
SplitToningHighlightSaturation | 0 |
SplitToningShadowHue | 0 |
SplitToningShadowSaturation | 0 |
SubjectDistance | 4294967295 m |
Tint | +18 |
ToneCurve | 0, 0, 32, 22, 64, 56, 128, 128, 192, 196, 255, 255 |
ToneCurveName | Medium Contrast |
URL_List | |
Version | 5.7 |
Vibrance | +9 |
VignetteAmount | 0 |
WhiteBalance (2) | As Shot |
WhiteBalance | Manual |