Felt | Verdi |
AlreadyApplied | True |
Aperture | 4.0 |
ApertureValue | 4.0 |
ApproximateFocusDistance | 3.72 |
BitsPerSample (1) | 8 8 8 |
BitsPerSample | 8 |
BlueHue | 0 |
BlueSaturation | 0 |
Brightness | +50 |
CameraProfile | Adobe Standard |
ChromaticAberrationB | 0 |
ChromaticAberrationR | 0 |
CircleOfConfusion | 0.019 mm |
Clarity | +17 |
ColorComponents | 3 |
ColorMode | RGB |
ColorNoiseReduction | 40 |
ColorNoiseReductionDetail | 31 |
ColorSpace | sRGB |
ColorTemperature | 6299 |
Contrast | +41 |
ConvertToGrayscale | False |
CreateDate (1) | 2010:08:11 16:00:25.74+02:00 |
CreateDate | 2010:08:11 16:00:25 |
CreatorTool | Adobe Photoshop Lightroom 3.4.1 |
CropAngle | 0 |
CropBottom | 0.727815 |
CropConstrainToWarp | 0 |
CropHeight | 1080 |
CropLeft | 0.284653 |
CropRight | 0.853825 |
CropTop | 0 |
CropUnit | pixels |
CropWidth | 1267 |
CustomRendered | Normal |
DateCreated (1) | 2010:08:11 |
DateCreated | 2010:08:11 16:00:25.074+02:00 |
DateTimeOriginal | 2010:08:11 16:00:25 |
Defringe | 0 |
DOF | 1.31 m (3.18 - 4.49 m) |
ExifImageHeight | 1080 |
ExifImageWidth | 1267 |
Exposure | +0.83 |
ExposureCompensation | 0 |
ExposureMode | Manual |
ExposureProgram | Manual |
ExposureTime | 1/500 |
FillLight | 14 |
Firmware | 1.0.4 |
Flash | Off, Did not fire |
FlashCompensation | 0 |
FNumber | 4.0 |
FocalLength | 40.0 mm |
FocalLength35efl | 40.0 mm (35 mm equivalent: 64.6 mm) |
Format | image/jpeg |
FOV | 31.1 deg |
GrainAmount | 0 |
GreenHue | 0 |
GreenSaturation | 0 |
HasCrop | True |
HasSettings | True |
HighlightRecovery | 0 |
HueAdjustmentAqua | 0 |
HueAdjustmentBlue | 0 |
HueAdjustmentGreen | 0 |
HueAdjustmentMagenta | 0 |
HueAdjustmentOrange | 0 |
HueAdjustmentPurple | 0 |
HueAdjustmentRed | 0 |
HueAdjustmentYellow | 0 |
HyperfocalDistance | 21.51 m |
ICCProfileName | sRGB IEC61966-2.1 |
ImageHeight | 1080 |
ImageNumber | 0 |
ImageSize | 1267x1080 |
ImageWidth | 1267 |
ISO | 400 |
Lens | EF17-40mm f/4L USM |
LensID (1) | 231 |
LensID | Canon EF 17-40mm f/4L USM |
LensInfo | 17-40mm f/? |
LensManualDistortionAmount | 0 |
LensModel | EF17-40mm f/4L USM |
LensProfileEnable | 0 |
LensProfileSetup | LensDefaults |
LightValue | 11.0 |
LuminanceAdjustmentAqua | 0 |
LuminanceAdjustmentBlue | 0 |
LuminanceAdjustmentGreen | 0 |
LuminanceAdjustmentMagenta | 0 |
LuminanceAdjustmentOrange | 0 |
LuminanceAdjustmentPurple | 0 |
LuminanceAdjustmentRed | 0 |
LuminanceAdjustmentYellow | 0 |
LuminanceNoiseReductionContrast | 0 |
LuminanceNoiseReductionDetail | 32 |
LuminanceSmoothing | 30 |
Make | Canon |
MaxApertureValue | 4.0 |
Megapixels | 1.4 |
MeteringMode | Multi-segment |
Model | Canon EOS 450D |
ModifyDate (1) | 2011:09:25 18:45:57+02:00 |
ModifyDate | 2011:09:25 18:45:57 |
Orientation | Horizontal (normal) |
PaintCorrectionActive | true |
PaintCorrectionAmount | 1.000000 |
PaintCorrectionBrightness | 0.255147 |
PaintCorrectionClarity | 0.270588 |
PaintCorrectionContrast | 0.000000 |
PaintCorrectionExposure | 0.122059 |
PaintCorrectionHue | 0.000000 |
PaintCorrectionMaskCenterWeight | 0.000000 |
PaintCorrectionMaskFlow | 0.551673 |
PaintCorrectionMaskRadius | 0.023911 |
PaintCorrectionMaskValue | 0.425377 |
PaintCorrectionMaskWhat | Mask/Paint |
PaintCorrectionSaturation (1) | 0.364706 |
PaintCorrectionSaturation | 0.000000 |
PaintCorrectionSharpness | 0.000000 |
PaintCorrectionWhat | Correction |
ParametricDarks | 0 |
ParametricHighlights | +2 |
ParametricHighlightSplit | 75 |
ParametricLights | +41 |
ParametricMidtoneSplit | 50 |
ParametricShadows | -10 |
ParametricShadowSplit | 25 |
PerspectiveHorizontal | 0 |
PerspectiveRotate | 0.0 |
PerspectiveScale | 100 |
PerspectiveVertical | 0 |
PhotometricInterpretation | RGB |
PostCropVignetteAmount | -8 |
PostCropVignetteFeather | 50 |
PostCropVignetteHighlightContrast | 0 |
PostCropVignetteMidpoint | 50 |
PostCropVignetteRoundness | 0 |
PostCropVignetteStyle | 1 |
ProcessVersion | 5.7 |
ProfileDescription | sRGB IEC61966-2.1 |
RedHue | 0 |
RedSaturation | 0 |
Saturation | -24 |
SaturationAdjustmentAqua | +15 |
SaturationAdjustmentBlue | 0 |
SaturationAdjustmentGreen | 0 |
SaturationAdjustmentMagenta | -19 |
SaturationAdjustmentOrange | 0 |
SaturationAdjustmentPurple | -30 |
SaturationAdjustmentRed | 0 |
SaturationAdjustmentYellow | 0 |
ScaleFactor35efl | 1.6 |
SceneCaptureType | Standard |
SerialNumber | 680108293 |
Shadows | 33 |
ShadowTint | 0 |
SharpenDetail | 25 |
SharpenEdgeMasking | 0 |
SharpenRadius | +1.0 |
Sharpness | 25 |
ShutterSpeed | 1/500 |
ShutterSpeedValue | 1/500 |
Software | Adobe Photoshop CS5 Macintosh |
SplitToningBalance | 0 |
SplitToningHighlightHue | 28 |
SplitToningHighlightSaturation | 18 |
SplitToningShadowHue | 217 |
SplitToningShadowSaturation | 14 |
SubjectDistance | 3.72 m |
Tint | -53 |
ToneCurve | 0, 0, 255, 255 |
ToneCurveName | Linear |
URL_List | |
Version | 6.4.1 |
Vibrance | -63 |
VignetteAmount | -100 |
VignetteMidpoint | 4 |
WhiteBalance (1) | Custom |
WhiteBalance | Auto |