Felt | Verdi |
AlreadyApplied | True |
Aperture | 4.0 |
ApertureValue | 4.0 |
ApproximateFocusDistance | 6.07 |
AutoLateralCA | 0 |
BitsPerSample (1) | 16 16 16 |
BitsPerSample | 8 |
Blacks2012 | +26 |
BlueHue | -1 |
BlueSaturation | +1 |
CameraProfile | Adobe Standard |
Caption-Abstract | OLYMPUS DIGITAL CAMERA |
CFAPattern | [Red,Green][Green,Blue] |
CircleOfConfusion | 0.015 mm |
Clarity2012 | +40 |
ColorComponents | 3 |
ColorMode | RGB |
ColorNoiseReduction | 25 |
ColorNoiseReductionDetail | 50 |
ColorSpace | sRGB |
ColorTemperature | 4900 |
Contrast | Normal |
Contrast2012 | -20 |
ConvertToGrayscale | False |
CreateDate | 2012:08:16 20:05:15 |
CreatorTool | Adobe Photoshop Lightroom 4.1 (Windows) |
CropAngle | 0 |
CropBottom | 0.998801 |
CropConstrainToWarp | 0 |
CropHeight | 2636 |
CropLeft | 0 |
CropRight | 0.852518 |
CropTop | 0.236211 |
CropUnit | pixels |
CropWidth | 3928 |
CustomRendered | Normal |
DateCreated (1) | 2012:08:16 |
DateCreated | 2012:08:16 20:05:15 |
DateTimeOriginal | 2012:08:16 20:05:15 |
DefringeGreenAmount | 0 |
DefringeGreenHueHi | 60 |
DefringeGreenHueLo | 40 |
DefringePurpleAmount | 0 |
DefringePurpleHueHi | 70 |
DefringePurpleHueLo | 30 |
Description | OLYMPUS DIGITAL CAMERA |
DigitalZoomRatio | 1 |
DOF | 0.11 m (6.02 - 6.12 m) |
ExifImageHeight | 859 |
ExifImageWidth | 1280 |
Exposure2012 | -1.05 |
ExposureCompensation | 0 |
ExposureMode | Auto |
ExposureProgram | Program AE |
ExposureTime | 1/320 |
Flash | Auto, Did not fire |
FlashCompensation | 0 |
FNumber | 4.0 |
FocalLength | 200.0 mm |
FocalLength35efl | 200.0 mm (35 mm equivalent: 401.0 mm) |
FocalLengthIn35mmFormat | 401 mm |
Format | image/jpeg |
FOV | 5.1 deg |
GainControl | None |
GrainAmount | 0 |
GreenHue | +20 |
GreenSaturation | -40 |
HasCrop | True |
HasSettings | True |
Highlights2012 | -75 |
HueAdjustmentAqua | 0 |
HueAdjustmentBlue | 0 |
HueAdjustmentGreen | -18 |
HueAdjustmentMagenta | -10 |
HueAdjustmentOrange | +18 |
HueAdjustmentPurple | 0 |
HueAdjustmentRed | +8 |
HueAdjustmentYellow | 0 |
HyperfocalDistance | 667.30 m |
ICCProfileName | sRGB IEC61966-2.1 |
ImageDescription | OLYMPUS DIGITAL CAMERA |
ImageHeight (1) | 2636 |
ImageHeight | 859 |
ImageSize | 1280x859 |
ImageWidth (1) | 3928 |
ImageWidth | 1280 |
ISO | 200 |
Lens | OLYMPUS 50-200mm Lens |
LensInfo | 50-200mm f/2.8-3.5 |
LensManualDistortionAmount | 0 |
LensModel | OLYMPUS 50-200mm Lens |
LensProfileEnable | 0 |
LensProfileSetup | LensDefaults |
LensSerialNumber | 240012877 |
LightSource | Unknown |
LightValue | 11.3 |
LuminanceAdjustmentAqua | +7 |
LuminanceAdjustmentBlue | +4 |
LuminanceAdjustmentGreen | +7 |
LuminanceAdjustmentMagenta | +5 |
LuminanceAdjustmentOrange | 0 |
LuminanceAdjustmentPurple | +10 |
LuminanceAdjustmentRed | -2 |
LuminanceAdjustmentYellow | -4 |
LuminanceSmoothing | 0 |
Make | OLYMPUS IMAGING CORP. |
MaxApertureValue | 2.8 |
Megapixels | 1.1 |
MeteringMode | Center-weighted average |
Model | E-M5 |
ModifyDate (1) | 2012:09:04 21:17:51+02:00 |
ModifyDate | 2012:09:04 21:17:51 |
Orientation | Horizontal (normal) |
ParametricDarks | +54 |
ParametricHighlights | -40 |
ParametricHighlightSplit | 90 |
ParametricLights | +50 |
ParametricMidtoneSplit | 30 |
ParametricShadows | -15 |
ParametricShadowSplit | 10 |
PerspectiveHorizontal | 0 |
PerspectiveRotate | 0.0 |
PerspectiveScale | 100 |
PerspectiveVertical | 0 |
PhotometricInterpretation | RGB |
PlanarConfiguration | Chunky |
PostCropVignetteAmount | 0 |
ProcessVersion | 6.7 |
ProfileDescription | sRGB IEC61966-2.1 |
RedHue | 0 |
RedSaturation | 0 |
Saturation (1) | +10 |
Saturation | Normal |
SaturationAdjustmentAqua | +9 |
SaturationAdjustmentBlue | -2 |
SaturationAdjustmentGreen | +18 |
SaturationAdjustmentMagenta | -7 |
SaturationAdjustmentOrange | +7 |
SaturationAdjustmentPurple | +4 |
SaturationAdjustmentRed | -18 |
SaturationAdjustmentYellow | -13 |
ScaleFactor35efl | 2.0 |
SceneCaptureType | Standard |
SensitivityType | Standard Output Sensitivity |
SerialNumber | BEK513268 |
Shadows2012 | +86 |
ShadowTint | 0 |
SharpenDetail | 25 |
SharpenEdgeMasking | 0 |
SharpenRadius | +1.0 |
Sharpness (1) | 25 |
Sharpness | Normal |
ShutterSpeed | 1/320 |
ShutterSpeedValue | 1/320 |
Software | Adobe Photoshop CS5 Windows |
SplitToningBalance | 0 |
SplitToningHighlightHue | 0 |
SplitToningHighlightSaturation | 0 |
SplitToningShadowHue | 0 |
SplitToningShadowSaturation | 0 |
Tint | +11 |
ToneCurveName2012 | Linear |
ToneCurvePV2012 | 0, 0, 255, 255 |
ToneCurvePV2012Blue | 0, 0, 255, 255 |
ToneCurvePV2012Green | 0, 0, 255, 255 |
ToneCurvePV2012Red | 0, 0, 255, 255 |
URL_List | |
Version | 7.1 |
Vibrance | +33 |
VignetteAmount | 0 |
WhiteBalance (1) | As Shot |
WhiteBalance | Auto |
Whites2012 | +29 |