Felt | Verdi |
AlreadyApplied | True |
Aperture | 8.0 |
ApertureValue | 8.0 |
ApproximateFocusDistance | 4294967295 |
AutoLateralCA | 0 |
BitsPerSample | 8 |
Blacks2012 | +49 |
BlueHue | 0 |
BlueSaturation | 0 |
CameraProfile | Adobe Standard |
CircleOfConfusion | 0.007 mm |
Clarity2012 | +13 |
ColorComponents | 3 |
ColorNoiseReduction | 25 |
ColorNoiseReductionDetail | 50 |
ColorTemperature | 3400 |
Contrast2012 | +20 |
ConvertToGrayscale | False |
CreateDate (1) | 2012:07:26 22:45:56.06 |
CreateDate | 2012:07:26 22:45:56 |
CreatorTool | Adobe Photoshop Lightroom 4.2 (Macintosh) |
CustomRendered | Normal |
DateCreated (1) | 2012:07:26 |
DateCreated | 2012:07:26 22:45:56.06 |
DateTimeOriginal | 2012:07:26 22:45:56 |
DefringeGreenAmount | 0 |
DefringeGreenHueHi | 60 |
DefringeGreenHueLo | 40 |
DefringePurpleAmount | 0 |
DefringePurpleHueHi | 70 |
DefringePurpleHueLo | 30 |
DOF | inf (185.78 m - inf) |
Exposure2012 | -0.80 |
ExposureCompensation | 0 |
ExposureMode | Auto |
ExposureProgram | Aperture-priority AE |
ExposureTime | 1/50 |
Firmware | 1.0.2 |
Flash | Off, Did not fire |
FlashCompensation | 0 |
FNumber | 8.0 |
FocalLength | 105.0 mm |
FocalLength35efl | 105.0 mm (35 mm equivalent: 425.3 mm) |
Format | image/jpeg |
FOV | 4.8 deg |
GrainAmount | 0 |
GreenHue | 0 |
GreenSaturation | 0 |
HasCrop | False |
HasSettings | True |
Highlights2012 | 0 |
HueAdjustmentAqua | 0 |
HueAdjustmentBlue | 0 |
HueAdjustmentGreen | 0 |
HueAdjustmentMagenta | +2 |
HueAdjustmentOrange | 0 |
HueAdjustmentPurple | 0 |
HueAdjustmentRed | 0 |
HueAdjustmentYellow | 0 |
HyperfocalDistance | 185.78 m |
ImageHeight | 853 |
ImageNumber | 0 |
ImageSize | 1280x853 |
ImageWidth | 1280 |
ISO | 640 |
Lens | EF24-105mm f/4L IS USM |
LensID (1) | 237 |
LensID | Canon EF 24-105mm f/4L IS USM |
LensInfo | 24-105mm f/? |
LensManualDistortionAmount | 0 |
LensModel | EF24-105mm f/4L IS USM |
LensProfileEnable | 0 |
LensProfileSetup | LensDefaults |
LensSerialNumber | 00001917a7 |
LightValue | 9.0 |
LuminanceAdjustmentAqua | 0 |
LuminanceAdjustmentBlue | 0 |
LuminanceAdjustmentGreen | 0 |
LuminanceAdjustmentMagenta | 0 |
LuminanceAdjustmentOrange | 0 |
LuminanceAdjustmentPurple | 0 |
LuminanceAdjustmentRed | 0 |
LuminanceAdjustmentYellow | 0 |
LuminanceSmoothing | 0 |
Make | Canon |
MaxApertureValue | 4.0 |
Megapixels | 1.1 |
MeteringMode | Multi-segment |
Model | Canon EOS-1D X |
ModifyDate (1) | 2013:01:06 15:53:11+01:00 |
ModifyDate | 2013:01:06 15:53:11 |
ParametricDarks | 0 |
ParametricHighlights | 0 |
ParametricHighlightSplit | 75 |
ParametricLights | 0 |
ParametricMidtoneSplit | 50 |
ParametricShadows | 0 |
ParametricShadowSplit | 25 |
PerspectiveHorizontal | 0 |
PerspectiveRotate | 0.0 |
PerspectiveScale | 100 |
PerspectiveVertical | 0 |
PostCropVignetteAmount | 0 |
ProcessVersion | 6.7 |
ProfileDescription | sRGB IEC61966-2.1 |
RecommendedExposureIndex | 640 |
RedHue | 0 |
RedSaturation | 0 |
Saturation | 0 |
SaturationAdjustmentAqua | 0 |
SaturationAdjustmentBlue | 0 |
SaturationAdjustmentGreen | 0 |
SaturationAdjustmentMagenta | 0 |
SaturationAdjustmentOrange | 0 |
SaturationAdjustmentPurple | 0 |
SaturationAdjustmentRed | 0 |
SaturationAdjustmentYellow | 0 |
ScaleFactor35efl | 4.1 |
SceneCaptureType | Standard |
SensitivityType | Recommended Exposure Index |
SerialNumber | 043011000650 |
Shadows2012 | 0 |
ShadowTint | 0 |
SharpenDetail | 25 |
SharpenEdgeMasking | 0 |
SharpenRadius | +1.0 |
Sharpness | 25 |
ShutterSpeed | 1/50 |
ShutterSpeedValue | 1/50 |
Software | Adobe Photoshop Lightroom 4.2 (Macintosh) |
SplitToningBalance | 0 |
SplitToningHighlightHue | 0 |
SplitToningHighlightSaturation | 0 |
SplitToningShadowHue | 0 |
SplitToningShadowSaturation | 0 |
Tint | -4 |
ToneCurveName2012 | Linear |
ToneCurvePV2012 | 0, 0, 255, 255 |
ToneCurvePV2012Blue | 0, 0, 255, 255 |
ToneCurvePV2012Green | 0, 0, 255, 255 |
ToneCurvePV2012Red | 0, 0, 255, 255 |
Version | 7.2 |
Vibrance | 0 |
VignetteAmount | 0 |
WhiteBalance (1) | As Shot |
WhiteBalance | Auto |
Whites2012 | 0 |