Felt | Verdi |
AlreadyApplied | True |
Aperture | 5.6 |
ApertureValue | 5.6 |
ApproximateFocusDistance | 6.68 |
Artist | RAK-foto |
AutoLateralCA | 0 |
BitsPerSample | 8 |
Blacks2012 | +14 |
BlueHue | 0 |
BlueSaturation | 0 |
By-line | RAK-foto |
CameraProfile | Adobe Standard |
CFAPattern | [Red,Green][Green,Blue] |
CircleOfConfusion | 0.030 mm |
Clarity2012 | +40 |
ColorComponents | 3 |
ColorNoiseReduction | 25 |
ColorNoiseReductionDetail | 50 |
ColorTemperature | 4200 |
Contrast | Normal |
Contrast2012 | +35 |
ConvertToGrayscale | False |
Copyright | Roy Arne Kollerud |
CopyrightNotice | Roy Arne Kollerud |
CreateDate (1) | 2013:10:09 10:47:03.32 |
CreateDate | 2013:10:09 10:47:03 |
Creator | RAK-foto |
CreatorTool | Adobe Photoshop Lightroom 4.4 (Macintosh) |
CropAngle | 0 |
CropBottom | 0.744122 |
CropConstrainToWarp | 0 |
CropHeight | 1622 |
CropLeft | 0.007448 |
CropRight | 0.812252 |
CropTop | 0.171235 |
CropUnit | pixels |
CropWidth | 3425 |
CustomRendered | Normal |
DateCreated (1) | 2013:10:09 |
DateCreated | 2013:10:09 10:47:03.32 |
DateTimeOriginal | 2013:10:09 10:47:03 |
DefringeGreenAmount | 0 |
DefringeGreenHueHi | 60 |
DefringeGreenHueLo | 40 |
DefringePurpleAmount | 0 |
DefringePurpleHueHi | 70 |
DefringePurpleHueLo | 30 |
DigitalZoomRatio | 1 |
DOF | 0.16 m (6.60 - 6.76 m) |
Exposure2012 | +0.20 |
ExposureCompensation | 0 |
ExposureMode | Auto |
ExposureProgram | Aperture-priority AE |
ExposureTime | 1/400 |
Flash | No Flash |
FNumber | 5.6 |
FocalLength | 300.0 mm |
FocalLength35efl | 300.0 mm (35 mm equivalent: 300.0 mm) |
FocalLengthIn35mmFormat | 300 mm |
Format | image/jpeg |
FOV | 6.9 deg |
GainControl | Low gain up |
GrainAmount | 0 |
GreenHue | 0 |
GreenSaturation | 0 |
HasCrop | True |
HasSettings | True |
Highlights2012 | -22 |
HueAdjustmentAqua | 0 |
HueAdjustmentBlue | 0 |
HueAdjustmentGreen | 0 |
HueAdjustmentMagenta | 0 |
HueAdjustmentOrange | 0 |
HueAdjustmentPurple | 0 |
HueAdjustmentRed | 0 |
HueAdjustmentYellow | 0 |
HyperfocalDistance | 534.89 m |
ImageHeight | 1622 |
ImageNumber | 30564 |
ImageSize | 3425x1622 |
ImageWidth | 3425 |
ISO | 400 |
Lens | 28.0-300.0 mm f/3.5-5.6 |
LensID (1) | 165 |
LensID | AF-S Nikkor 28-300mm f/3.5-5.6G ED VR |
LensInfo | 28-300mm f/3.5-5.6 |
LensManualDistortionAmount | 0 |
LensModel | 28.0-300.0 mm f/3.5-5.6 |
LensProfileChromaticAberrationScale | 100 |
LensProfileDistortionScale | 100 |
LensProfileEnable | 1 |
LensProfileFilename | NIKON D3X (Nikon AF-S NIKKOR 28-300mm f3.5-5.6 ED VR) - RAW.lcp |
LensProfileName | Adobe (Nikon AF-S NIKKOR 28-300mm f/3.5-5.6 ED VR) |
LensProfileSetup | LensDefaults |
LensProfileVignettingScale | 100 |
LightSource | Unknown |
LightValue | 11.6 |
LuminanceAdjustmentAqua | 0 |
LuminanceAdjustmentBlue | 0 |
LuminanceAdjustmentGreen | 0 |
LuminanceAdjustmentMagenta | 0 |
LuminanceAdjustmentOrange | 0 |
LuminanceAdjustmentPurple | 0 |
LuminanceAdjustmentRed | 0 |
LuminanceAdjustmentYellow | 0 |
LuminanceNoiseReductionContrast | 0 |
LuminanceNoiseReductionDetail | 50 |
LuminanceSmoothing | 14 |
Make | NIKON CORPORATION |
MaxApertureValue | 5.7 |
Megapixels | 5.6 |
MeteringMode | Multi-segment |
Model | NIKON D3S |
ModifyDate (1) | 2013:10:09 21:52:49+02:00 |
ModifyDate | 2013:10:09 21:52:49 |
ParametricDarks | 0 |
ParametricHighlights | +9 |
ParametricHighlightSplit | 75 |
ParametricLights | 0 |
ParametricMidtoneSplit | 50 |
ParametricShadows | 0 |
ParametricShadowSplit | 25 |
PerspectiveHorizontal | 0 |
PerspectiveRotate | 0.0 |
PerspectiveScale | 100 |
PerspectiveVertical | 0 |
PostCropVignetteAmount | -36 |
PostCropVignetteFeather | 50 |
PostCropVignetteHighlightContrast | 0 |
PostCropVignetteMidpoint | 44 |
PostCropVignetteRoundness | +13 |
PostCropVignetteStyle | 1 |
ProcessVersion | 6.7 |
ProfileDescription | sRGB IEC61966-2.1 |
RedHue | 0 |
RedSaturation | 0 |
Rights | Roy Arne Kollerud |
Saturation (1) | +12 |
Saturation | Normal |
SaturationAdjustmentAqua | 0 |
SaturationAdjustmentBlue | 0 |
SaturationAdjustmentGreen | 0 |
SaturationAdjustmentMagenta | 0 |
SaturationAdjustmentOrange | 0 |
SaturationAdjustmentPurple | 0 |
SaturationAdjustmentRed | 0 |
SaturationAdjustmentYellow | 0 |
ScaleFactor35efl | 1.0 |
SceneCaptureType | Standard |
SceneType | Directly photographed |
SensingMethod | One-chip color area |
SerialNumber | 2001198 |
Shadows2012 | -2 |
ShadowTint | 0 |
SharpenDetail | 35 |
SharpenEdgeMasking | 0 |
SharpenRadius | +1.1 |
Sharpness (1) | 77 |
Sharpness | Normal |
ShutterSpeed | 1/400 |
ShutterSpeedValue | 1/400 |
Software | Adobe Photoshop Lightroom 4.4 (Macintosh) |
SplitToningBalance | 0 |
SplitToningHighlightHue | 0 |
SplitToningHighlightSaturation | 0 |
SplitToningShadowHue | 0 |
SplitToningShadowSaturation | 0 |
SubjectDistanceRange | Unknown |
Tint | +9 |
ToneCurveName2012 | Linear |
ToneCurvePV2012 | 0, 0, 255, 255 |
ToneCurvePV2012Blue | 0, 0, 255, 255 |
ToneCurvePV2012Green | 0, 0, 255, 255 |
ToneCurvePV2012Red | 0, 0, 255, 255 |
Version | 7.4 |
Vibrance | +14 |
VignetteAmount | 0 |
WhiteBalance (1) | As Shot |
WhiteBalance | Auto |
Whites2012 | +23 |